BEGIN:VCALENDAR
VERSION:2.0
PRODID:-//Park District of Highland Park - ECPv6.15.17.1//NONSGML v1.0//EN
CALSCALE:GREGORIAN
METHOD:PUBLISH
X-ORIGINAL-URL:https://www.pdhp.org
X-WR-CALDESC:Events for Park District of Highland Park
REFRESH-INTERVAL;VALUE=DURATION:PT1H
X-Robots-Tag:noindex
X-PUBLISHED-TTL:PT1H
BEGIN:VTIMEZONE
TZID:America/Chicago
BEGIN:DAYLIGHT
TZOFFSETFROM:-0600
TZOFFSETTO:-0500
TZNAME:CDT
DTSTART:20250309T080000
END:DAYLIGHT
BEGIN:STANDARD
TZOFFSETFROM:-0500
TZOFFSETTO:-0600
TZNAME:CST
DTSTART:20251102T070000
END:STANDARD
BEGIN:DAYLIGHT
TZOFFSETFROM:-0600
TZOFFSETTO:-0500
TZNAME:CDT
DTSTART:20260308T080000
END:DAYLIGHT
BEGIN:STANDARD
TZOFFSETFROM:-0500
TZOFFSETTO:-0600
TZNAME:CST
DTSTART:20261101T070000
END:STANDARD
BEGIN:DAYLIGHT
TZOFFSETFROM:-0600
TZOFFSETTO:-0500
TZNAME:CDT
DTSTART:20270314T080000
END:DAYLIGHT
BEGIN:STANDARD
TZOFFSETFROM:-0500
TZOFFSETTO:-0600
TZNAME:CST
DTSTART:20271107T070000
END:STANDARD
END:VTIMEZONE
BEGIN:VEVENT
DTSTART;TZID=America/Chicago:20260111T110000
DTEND;TZID=America/Chicago:20260111T130000
DTSTAMP:20260420T093346
CREATED:20251022T162338Z
LAST-MODIFIED:20251022T162539Z
UID:10005948-1768129200-1768136400@www.pdhp.org
SUMMARY:Heller Hygge Winter PlayDate
DESCRIPTION:
URL:https://www.pdhp.org/event/heller-hygge-winter-playdate/
LOCATION:Heller Nature Center\, 2821 Ridge Road\, Highland Park\, IL\, 60035\, United States
CATEGORIES:Free,Winter
END:VEVENT
BEGIN:VEVENT
DTSTART;TZID=America/Chicago:20260116T160000
DTEND;TZID=America/Chicago:20260116T170000
DTSTAMP:20260420T093346
CREATED:20260123T170530Z
LAST-MODIFIED:20260123T170536Z
UID:10006251-1768579200-1768582800@www.pdhp.org
SUMMARY:Community Yoga at Park Fitness
DESCRIPTION:Thank You to Our Generous Sponsor:
URL:https://www.pdhp.org/event/community-yoga-at-park-fitness-5/2026-01-16/
LOCATION:Park Fitness\, 1207 Park Avenue West\, Highland Park\, IL\, 60035\, United States
CATEGORIES:Free
END:VEVENT
BEGIN:VEVENT
DTSTART;TZID=America/Chicago:20260123T160000
DTEND;TZID=America/Chicago:20260123T170000
DTSTAMP:20260420T093346
CREATED:20260123T170530Z
LAST-MODIFIED:20260123T170536Z
UID:10006252-1769184000-1769187600@www.pdhp.org
SUMMARY:Community Yoga at Park Fitness
DESCRIPTION:Thank You to Our Generous Sponsor:
URL:https://www.pdhp.org/event/community-yoga-at-park-fitness-5/2026-01-23/
LOCATION:Park Fitness\, 1207 Park Avenue West\, Highland Park\, IL\, 60035\, United States
CATEGORIES:Free
END:VEVENT
BEGIN:VEVENT
DTSTART;TZID=America/Chicago:20260130T160000
DTEND;TZID=America/Chicago:20260130T170000
DTSTAMP:20260420T093346
CREATED:20260123T170530Z
LAST-MODIFIED:20260123T170536Z
UID:10006253-1769788800-1769792400@www.pdhp.org
SUMMARY:Community Yoga at Park Fitness
DESCRIPTION:Thank You to Our Generous Sponsor:
URL:https://www.pdhp.org/event/community-yoga-at-park-fitness-5/2026-01-30/
LOCATION:Park Fitness\, 1207 Park Avenue West\, Highland Park\, IL\, 60035\, United States
CATEGORIES:Free
END:VEVENT
END:VCALENDAR