BEGIN:VCALENDAR
VERSION:2.0
PRODID:-//Park District of Highland Park - ECPv6.15.17.1//NONSGML v1.0//EN
CALSCALE:GREGORIAN
METHOD:PUBLISH
X-ORIGINAL-URL:https://www.pdhp.org
X-WR-CALDESC:Events for Park District of Highland Park
REFRESH-INTERVAL;VALUE=DURATION:PT1H
X-Robots-Tag:noindex
X-PUBLISHED-TTL:PT1H
BEGIN:VTIMEZONE
TZID:America/Chicago
BEGIN:DAYLIGHT
TZOFFSETFROM:-0600
TZOFFSETTO:-0500
TZNAME:CDT
DTSTART:20250309T080000
END:DAYLIGHT
BEGIN:STANDARD
TZOFFSETFROM:-0500
TZOFFSETTO:-0600
TZNAME:CST
DTSTART:20251102T070000
END:STANDARD
BEGIN:DAYLIGHT
TZOFFSETFROM:-0600
TZOFFSETTO:-0500
TZNAME:CDT
DTSTART:20260308T080000
END:DAYLIGHT
BEGIN:STANDARD
TZOFFSETFROM:-0500
TZOFFSETTO:-0600
TZNAME:CST
DTSTART:20261101T070000
END:STANDARD
BEGIN:DAYLIGHT
TZOFFSETFROM:-0600
TZOFFSETTO:-0500
TZNAME:CDT
DTSTART:20270314T080000
END:DAYLIGHT
BEGIN:STANDARD
TZOFFSETFROM:-0500
TZOFFSETTO:-0600
TZNAME:CST
DTSTART:20271107T070000
END:STANDARD
END:VTIMEZONE
BEGIN:VEVENT
DTSTART;TZID=America/Chicago:20260206T160000
DTEND;TZID=America/Chicago:20260206T170000
DTSTAMP:20260420T081729
CREATED:20260123T170530Z
LAST-MODIFIED:20260123T170536Z
UID:10006254-1770393600-1770397200@www.pdhp.org
SUMMARY:Community Yoga at Park Fitness
DESCRIPTION:Thank You to Our Generous Sponsor:
URL:https://www.pdhp.org/event/community-yoga-at-park-fitness-5/2026-02-06/
LOCATION:Park Fitness\, 1207 Park Avenue West\, Highland Park\, IL\, 60035\, United States
CATEGORIES:Free
END:VEVENT
BEGIN:VEVENT
DTSTART;TZID=America/Chicago:20260213T160000
DTEND;TZID=America/Chicago:20260213T170000
DTSTAMP:20260420T081729
CREATED:20260123T170530Z
LAST-MODIFIED:20260123T170536Z
UID:10006255-1770998400-1771002000@www.pdhp.org
SUMMARY:Community Yoga at Park Fitness
DESCRIPTION:Thank You to Our Generous Sponsor:
URL:https://www.pdhp.org/event/community-yoga-at-park-fitness-5/2026-02-13/
LOCATION:Park Fitness\, 1207 Park Avenue West\, Highland Park\, IL\, 60035\, United States
CATEGORIES:Free
END:VEVENT
BEGIN:VEVENT
DTSTART;TZID=America/Chicago:20260220T160000
DTEND;TZID=America/Chicago:20260220T170000
DTSTAMP:20260420T081729
CREATED:20260123T170530Z
LAST-MODIFIED:20260123T170536Z
UID:10006256-1771603200-1771606800@www.pdhp.org
SUMMARY:Community Yoga at Park Fitness
DESCRIPTION:Thank You to Our Generous Sponsor:
URL:https://www.pdhp.org/event/community-yoga-at-park-fitness-5/2026-02-20/
LOCATION:Park Fitness\, 1207 Park Avenue West\, Highland Park\, IL\, 60035\, United States
CATEGORIES:Free
END:VEVENT
BEGIN:VEVENT
DTSTART;TZID=America/Chicago:20260221T100000
DTEND;TZID=America/Chicago:20260221T120000
DTSTAMP:20260420T081729
CREATED:20251021T174728Z
LAST-MODIFIED:20251021T174733Z
UID:10005935-1771668000-1771675200@www.pdhp.org
SUMMARY:Let's Play! Winter Forest Exploration
DESCRIPTION:
URL:https://www.pdhp.org/event/lets-play-winter-forest-exploration/
LOCATION:Heller Nature Center\, 2821 Ridge Road\, Highland Park\, IL\, 60035\, United States
CATEGORIES:Free,Winter
END:VEVENT
BEGIN:VEVENT
DTSTART;TZID=America/Chicago:20260227T160000
DTEND;TZID=America/Chicago:20260227T170000
DTSTAMP:20260420T081729
CREATED:20260123T170530Z
LAST-MODIFIED:20260123T170536Z
UID:10006257-1772208000-1772211600@www.pdhp.org
SUMMARY:Community Yoga at Park Fitness
DESCRIPTION:Thank You to Our Generous Sponsor:
URL:https://www.pdhp.org/event/community-yoga-at-park-fitness-5/2026-02-27/
LOCATION:Park Fitness\, 1207 Park Avenue West\, Highland Park\, IL\, 60035\, United States
CATEGORIES:Free
END:VEVENT
BEGIN:VEVENT
DTSTART;TZID=America/Chicago:20260228T103000
DTEND;TZID=America/Chicago:20260228T123000
DTSTAMP:20260420T081729
CREATED:20251021T144631Z
LAST-MODIFIED:20251022T155225Z
UID:10005931-1772274600-1772281800@www.pdhp.org
SUMMARY:Green Family Art-venture
DESCRIPTION:
URL:https://www.pdhp.org/event/green-family-art-venture-2/
LOCATION:West Ridge Center\, 636 Ridge Road\, Highland Park\, IL\, 60035\, United States
CATEGORIES:Free,Sustainable,Winter
END:VEVENT
END:VCALENDAR