BEGIN:VCALENDAR
VERSION:2.0
PRODID:-//Park District of Highland Park - ECPv6.15.17.1//NONSGML v1.0//EN
CALSCALE:GREGORIAN
METHOD:PUBLISH
X-ORIGINAL-URL:https://www.pdhp.org
X-WR-CALDESC:Events for Park District of Highland Park
REFRESH-INTERVAL;VALUE=DURATION:PT1H
X-Robots-Tag:noindex
X-PUBLISHED-TTL:PT1H
BEGIN:VTIMEZONE
TZID:America/Chicago
BEGIN:DAYLIGHT
TZOFFSETFROM:-0600
TZOFFSETTO:-0500
TZNAME:CDT
DTSTART:20250309T080000
END:DAYLIGHT
BEGIN:STANDARD
TZOFFSETFROM:-0500
TZOFFSETTO:-0600
TZNAME:CST
DTSTART:20251102T070000
END:STANDARD
BEGIN:DAYLIGHT
TZOFFSETFROM:-0600
TZOFFSETTO:-0500
TZNAME:CDT
DTSTART:20260308T080000
END:DAYLIGHT
BEGIN:STANDARD
TZOFFSETFROM:-0500
TZOFFSETTO:-0600
TZNAME:CST
DTSTART:20261101T070000
END:STANDARD
BEGIN:DAYLIGHT
TZOFFSETFROM:-0600
TZOFFSETTO:-0500
TZNAME:CDT
DTSTART:20270314T080000
END:DAYLIGHT
BEGIN:STANDARD
TZOFFSETFROM:-0500
TZOFFSETTO:-0600
TZNAME:CST
DTSTART:20271107T070000
END:STANDARD
END:VTIMEZONE
BEGIN:VEVENT
DTSTART;TZID=America/Chicago:20260306T160000
DTEND;TZID=America/Chicago:20260306T170000
DTSTAMP:20260420T064322
CREATED:20260123T170530Z
LAST-MODIFIED:20260123T170536Z
UID:10006258-1772812800-1772816400@www.pdhp.org
SUMMARY:Community Yoga at Park Fitness
DESCRIPTION:Thank You to Our Generous Sponsor:
URL:https://www.pdhp.org/event/community-yoga-at-park-fitness-5/2026-03-06/
LOCATION:Park Fitness\, 1207 Park Avenue West\, Highland Park\, IL\, 60035\, United States
CATEGORIES:Free
END:VEVENT
BEGIN:VEVENT
DTSTART;TZID=America/Chicago:20260313T160000
DTEND;TZID=America/Chicago:20260313T170000
DTSTAMP:20260420T064322
CREATED:20260123T170530Z
LAST-MODIFIED:20260123T170536Z
UID:10006259-1773417600-1773421200@www.pdhp.org
SUMMARY:Community Yoga at Park Fitness
DESCRIPTION:Thank You to Our Generous Sponsor:
URL:https://www.pdhp.org/event/community-yoga-at-park-fitness-5/2026-03-13/
LOCATION:Park Fitness\, 1207 Park Avenue West\, Highland Park\, IL\, 60035\, United States
CATEGORIES:Free
END:VEVENT
BEGIN:VEVENT
DTSTART;TZID=America/Chicago:20260320T160000
DTEND;TZID=America/Chicago:20260320T170000
DTSTAMP:20260420T064322
CREATED:20260123T170530Z
LAST-MODIFIED:20260123T170536Z
UID:10006260-1774022400-1774026000@www.pdhp.org
SUMMARY:Community Yoga at Park Fitness
DESCRIPTION:Thank You to Our Generous Sponsor:
URL:https://www.pdhp.org/event/community-yoga-at-park-fitness-5/2026-03-20/
LOCATION:Park Fitness\, 1207 Park Avenue West\, Highland Park\, IL\, 60035\, United States
CATEGORIES:Free
END:VEVENT
BEGIN:VEVENT
DTSTART;TZID=America/Chicago:20260321T090000
DTEND;TZID=America/Chicago:20260321T110000
DTSTAMP:20260420T064322
CREATED:20260225T152112Z
LAST-MODIFIED:20260225T152116Z
UID:10006354-1774083600-1774090800@www.pdhp.org
SUMMARY:Urban Wildlife Presentation
DESCRIPTION:
URL:https://www.pdhp.org/event/urban-wildlife-presentation/
LOCATION:Heller Nature Center\, 2821 Ridge Road\, Highland Park\, IL\, 60035\, United States
CATEGORIES:Free
END:VEVENT
BEGIN:VEVENT
DTSTART;TZID=America/Chicago:20260327T160000
DTEND;TZID=America/Chicago:20260327T170000
DTSTAMP:20260420T064322
CREATED:20260123T170530Z
LAST-MODIFIED:20260123T170536Z
UID:10006261-1774627200-1774630800@www.pdhp.org
SUMMARY:Community Yoga at Park Fitness
DESCRIPTION:Thank You to Our Generous Sponsor:
URL:https://www.pdhp.org/event/community-yoga-at-park-fitness-5/2026-03-27/
LOCATION:Park Fitness\, 1207 Park Avenue West\, Highland Park\, IL\, 60035\, United States
CATEGORIES:Free
END:VEVENT
BEGIN:VEVENT
DTSTART;TZID=America/Chicago:20260328T090000
DTEND;TZID=America/Chicago:20260328T104500
DTSTAMP:20260420T064322
CREATED:20260128T193753Z
LAST-MODIFIED:20260317T140110Z
UID:10006331-1774688400-1774694700@www.pdhp.org
SUMMARY:Egg Hunts
DESCRIPTION:
URL:https://www.pdhp.org/event/egg-hunts/
LOCATION:Sunset Woods Park\, 1801 Sunset Road\, Highland Park\, Illinois\, 60035\, United States
CATEGORIES:Free,Spring
END:VEVENT
END:VCALENDAR