BEGIN:VCALENDAR
VERSION:2.0
PRODID:-//Park District of Highland Park - ECPv6.15.17.1//NONSGML v1.0//EN
CALSCALE:GREGORIAN
METHOD:PUBLISH
X-ORIGINAL-URL:https://www.pdhp.org
X-WR-CALDESC:Events for Park District of Highland Park
REFRESH-INTERVAL;VALUE=DURATION:PT1H
X-Robots-Tag:noindex
X-PUBLISHED-TTL:PT1H
BEGIN:VTIMEZONE
TZID:America/Chicago
BEGIN:DAYLIGHT
TZOFFSETFROM:-0600
TZOFFSETTO:-0500
TZNAME:CDT
DTSTART:20240310T080000
END:DAYLIGHT
BEGIN:STANDARD
TZOFFSETFROM:-0500
TZOFFSETTO:-0600
TZNAME:CST
DTSTART:20241103T070000
END:STANDARD
BEGIN:DAYLIGHT
TZOFFSETFROM:-0600
TZOFFSETTO:-0500
TZNAME:CDT
DTSTART:20250309T080000
END:DAYLIGHT
BEGIN:STANDARD
TZOFFSETFROM:-0500
TZOFFSETTO:-0600
TZNAME:CST
DTSTART:20251102T070000
END:STANDARD
BEGIN:DAYLIGHT
TZOFFSETFROM:-0600
TZOFFSETTO:-0500
TZNAME:CDT
DTSTART:20260308T080000
END:DAYLIGHT
BEGIN:STANDARD
TZOFFSETFROM:-0500
TZOFFSETTO:-0600
TZNAME:CST
DTSTART:20261101T070000
END:STANDARD
END:VTIMEZONE
BEGIN:VEVENT
DTSTART;TZID=America/Chicago:20251006T090000
DTEND;TZID=America/Chicago:20251009T183000
DTSTAMP:20260420T104800
CREATED:20250916T214448Z
LAST-MODIFIED:20250917T142332Z
UID:10004077-1759741200-1760034600@www.pdhp.org
SUMMARY:Try Gymnastics Week
DESCRIPTION:
URL:https://www.pdhp.org/event/try-gymnastics-week/
LOCATION:Centennial Ice Arena\, 3100 Trail Way\, Highland Park\, IL\, 60035\, United States
CATEGORIES:Fall,Free
END:VEVENT
BEGIN:VEVENT
DTSTART;TZID=America/Chicago:20250926T173000
DTEND;TZID=America/Chicago:20250926T203000
DTSTAMP:20260420T104800
CREATED:20250918T161027Z
LAST-MODIFIED:20250918T161031Z
UID:10004178-1758907800-1758918600@www.pdhp.org
SUMMARY:Under the Stars: Movie Night at Sunset Valley Golf Club
DESCRIPTION:
URL:https://www.pdhp.org/event/under-the-stars-movie-night-at-sunset-valley-golf-club-2/
LOCATION:Sunset Valley Golf Club\, 1390 Sunset Road\, Highland Park\, IL\, Illinois\, 60035\, United States
CATEGORIES:Free
END:VEVENT
BEGIN:VEVENT
DTSTART;TZID=America/Chicago:20250913T130000
DTEND;TZID=America/Chicago:20250913T154000
DTSTAMP:20260420T104800
CREATED:20250904T152400Z
LAST-MODIFIED:20250908T212912Z
UID:10003959-1757768400-1757778000@www.pdhp.org
SUMMARY:Ice Skate for Free!
DESCRIPTION:
URL:https://www.pdhp.org/event/ice-skate-on-us-for-free/2025-09-13/
LOCATION:Centennial Ice Arena\, 3100 Trail Way\, Highland Park\, IL\, 60035\, United States
CATEGORIES:Fall,Free
END:VEVENT
BEGIN:VEVENT
DTSTART;TZID=America/Chicago:20250912T180000
DTEND;TZID=America/Chicago:20250912T203000
DTSTAMP:20260420T104800
CREATED:20250904T142127Z
LAST-MODIFIED:20250904T142131Z
UID:10003958-1757700000-1757709000@www.pdhp.org
SUMMARY:Under the Stars: Movie Night at Sunset Valley Golf Club
DESCRIPTION:
URL:https://www.pdhp.org/event/under-the-stars-movie-night-at-sunset-valley-golf-club/
LOCATION:Sunset Valley Golf Club\, 1390 Sunset Road\, Highland Park\, IL\, 60035\, United States
CATEGORIES:Fall,Free
END:VEVENT
BEGIN:VEVENT
DTSTART;TZID=America/Chicago:20250813T160000
DTEND;TZID=America/Chicago:20250813T173000
DTSTAMP:20260420T104800
CREATED:20250416T191946Z
LAST-MODIFIED:20250416T191949Z
UID:10003754-1755100800-1755106200@www.pdhp.org
SUMMARY:Shape It\, Shake It!
DESCRIPTION:
URL:https://www.pdhp.org/event/shape-it-shake-it/
LOCATION:Sunset Woods Park\, 1801 Sunset Road\, Highland Park\, Illinois\, 60035\, United States
CATEGORIES:Free,Summer
END:VEVENT
BEGIN:VEVENT
DTSTART;TZID=America/Chicago:20250726T100000
DTEND;TZID=America/Chicago:20250726T110000
DTSTAMP:20260420T104800
CREATED:20250515T151022Z
LAST-MODIFIED:20250515T151025Z
UID:10003858-1753524000-1753527600@www.pdhp.org
SUMMARY:Heller's Pollinators Show & Tell
DESCRIPTION:
URL:https://www.pdhp.org/event/hellers-pollinators-show-tell/
LOCATION:Madame ZuZu’s\, 1876 1st Street\, Highland Park\, Illinois\, 60035\, United States
CATEGORIES:Free
END:VEVENT
BEGIN:VEVENT
DTSTART;TZID=America/Chicago:20250716T160000
DTEND;TZID=America/Chicago:20250716T173000
DTSTAMP:20260420T104800
CREATED:20250416T185915Z
LAST-MODIFIED:20250416T185918Z
UID:10003753-1752681600-1752687000@www.pdhp.org
SUMMARY:Make & Move!
DESCRIPTION:
URL:https://www.pdhp.org/event/make-move/
LOCATION:Sunset Woods Park\, 1801 Sunset Road\, Highland Park\, Illinois\, 60035\, United States
CATEGORIES:Free,Summer
END:VEVENT
BEGIN:VEVENT
DTSTART;TZID=America/Chicago:20250618T160000
DTEND;TZID=America/Chicago:20250618T173000
DTSTAMP:20260420T104800
CREATED:20250416T192231Z
LAST-MODIFIED:20250416T192643Z
UID:10003755-1750262400-1750267800@www.pdhp.org
SUMMARY:Mini Makers & Movers
DESCRIPTION:
URL:https://www.pdhp.org/event/mini-makers-movers/
LOCATION:Sunset Woods Park\, 1801 Sunset Road\, Highland Park\, Illinois\, 60035\, United States
CATEGORIES:Free,Summer
END:VEVENT
BEGIN:VEVENT
DTSTART;TZID=America/Chicago:20250531T100000
DTEND;TZID=America/Chicago:20250531T110000
DTSTAMP:20260420T104800
CREATED:20250129T232150Z
LAST-MODIFIED:20250129T232153Z
UID:10003665-1748685600-1748689200@www.pdhp.org
SUMMARY:Nature Playdates
DESCRIPTION:
URL:https://www.pdhp.org/event/nature-playdates/2025-05-31/
LOCATION:Heller Nature Center\, 2821 Ridge Road\, Highland Park\, IL\, 60035\, United States
CATEGORIES:Free,Spring
END:VEVENT
BEGIN:VEVENT
DTSTART;TZID=America/Chicago:20250509T151500
DTEND;TZID=America/Chicago:20250509T194500
DTSTAMP:20260420T104800
CREATED:20250130T212928Z
LAST-MODIFIED:20250130T212932Z
UID:10003687-1746803700-1746819900@www.pdhp.org
SUMMARY:Screen Break Week: Open Gym
DESCRIPTION:
URL:https://www.pdhp.org/event/screen-break-week-open-gym-2/
LOCATION:Park Fitness\, 1207 Park Avenue West\, Highland Park\, IL\, 60035\, United States
CATEGORIES:Free,Spring
END:VEVENT
BEGIN:VEVENT
DTSTART;TZID=America/Chicago:20250508T160000
DTEND;TZID=America/Chicago:20250508T180000
DTSTAMP:20260420T104800
CREATED:20250130T212547Z
LAST-MODIFIED:20250130T212551Z
UID:10003686-1746720000-1746727200@www.pdhp.org
SUMMARY:Screen Break Week: Open Swim
DESCRIPTION:
URL:https://www.pdhp.org/event/screen-break-week-open-swim-2/
LOCATION:Park Fitness\, 1207 Park Avenue West\, Highland Park\, IL\, 60035\, United States
CATEGORIES:Free,Spring
END:VEVENT
BEGIN:VEVENT
DTSTART;TZID=America/Chicago:20250507T100000
DTEND;TZID=America/Chicago:20250507T110000
DTSTAMP:20260420T104800
CREATED:20250130T212212Z
LAST-MODIFIED:20250130T212215Z
UID:10003685-1746612000-1746615600@www.pdhp.org
SUMMARY:Screen Break Week: Chalk-a-Palooza
DESCRIPTION:
URL:https://www.pdhp.org/event/screen-break-week-chalk-a-palooza-2/
LOCATION:West Ridge Center\, 636 Ridge Road\, Highland Park\, IL\, 60035\, United States
CATEGORIES:Free,Spring
END:VEVENT
BEGIN:VEVENT
DTSTART;TZID=America/Chicago:20250506T160000
DTEND;TZID=America/Chicago:20250506T170000
DTSTAMP:20260420T104800
CREATED:20250130T211835Z
LAST-MODIFIED:20250130T211915Z
UID:10003684-1746547200-1746550800@www.pdhp.org
SUMMARY:Screen Break Week: Hike With a Naturalist
DESCRIPTION:
URL:https://www.pdhp.org/event/screen-break-week-hike-with-a-naturalist-2/
LOCATION:Heller Nature Center\, 2821 Ridge Road\, Highland Park\, IL\, 60035\, United States
CATEGORIES:Free,Spring
END:VEVENT
BEGIN:VEVENT
DTSTART;TZID=America/Chicago:20250506T090000
DTEND;TZID=America/Chicago:20250506T100000
DTSTAMP:20260420T104800
CREATED:20250130T211550Z
LAST-MODIFIED:20250130T211553Z
UID:10003683-1746522000-1746525600@www.pdhp.org
SUMMARY:Screen Break Week: Sip\, Stroll and Stride
DESCRIPTION:
URL:https://www.pdhp.org/event/screen-break-week-sip-stroll-and-stride/
LOCATION:The Preserve of Highland Park\, 1207 Park Ave West\, Highland Park\, IL\, 60035\, United States
CATEGORIES:Free,Spring
END:VEVENT
BEGIN:VEVENT
DTSTART;TZID=America/Chicago:20250505T160000
DTEND;TZID=America/Chicago:20250505T170000
DTSTAMP:20260420T104800
CREATED:20250130T210924Z
LAST-MODIFIED:20250130T210931Z
UID:10003682-1746460800-1746464400@www.pdhp.org
SUMMARY:Screen Break Week: Mini Golf
DESCRIPTION:
URL:https://www.pdhp.org/event/screen-break-week-mini-golf-2/
LOCATION:River’s Edge Mini Golf\, 2203 Skokie Valley Road\, Highland Park\, IL\, 60035\, United States
CATEGORIES:Free,Spring
END:VEVENT
BEGIN:VEVENT
DTSTART;TZID=America/Chicago:20250504T093000
DTEND;TZID=America/Chicago:20250504T110000
DTSTAMP:20260420T104800
CREATED:20250130T210622Z
LAST-MODIFIED:20250425T171023Z
UID:10003681-1746351000-1746356400@www.pdhp.org
SUMMARY:Screen Break Week: The Empire Bikes Back
DESCRIPTION:
URL:https://www.pdhp.org/event/screen-break-week-the-empire-bikes-back/
LOCATION:Wayne Thomas Elementary School\, 2939 Summit Drive\, Highland Park\, Illinois\, 60035\, United States
CATEGORIES:Free,Spring
END:VEVENT
BEGIN:VEVENT
DTSTART;TZID=America/Chicago:20250503T100000
DTEND;TZID=America/Chicago:20250503T110000
DTSTAMP:20260420T104800
CREATED:20250129T232150Z
LAST-MODIFIED:20250129T232153Z
UID:10003664-1746266400-1746270000@www.pdhp.org
SUMMARY:Nature Playdates
DESCRIPTION:
URL:https://www.pdhp.org/event/nature-playdates/2025-05-03/
LOCATION:Heller Nature Center\, 2821 Ridge Road\, Highland Park\, IL\, 60035\, United States
CATEGORIES:Free,Spring
END:VEVENT
BEGIN:VEVENT
DTSTART;TZID=America/Chicago:20250426T100000
DTEND;TZID=America/Chicago:20250426T120000
DTSTAMP:20260420T104800
CREATED:20250129T223708Z
LAST-MODIFIED:20250221T162957Z
UID:10003655-1745661600-1745668800@www.pdhp.org
SUMMARY:Earth Day Celebration
DESCRIPTION:
URL:https://www.pdhp.org/event/earth-day-celebration/
LOCATION:Heller Nature Center\, 2821 Ridge Road\, Highland Park\, IL\, 60035\, United States
CATEGORIES:Free,Spring
END:VEVENT
END:VCALENDAR