BEGIN:VCALENDAR
VERSION:2.0
PRODID:-//Park District of Highland Park - ECPv6.15.17.1//NONSGML v1.0//EN
CALSCALE:GREGORIAN
METHOD:PUBLISH
X-ORIGINAL-URL:https://www.pdhp.org
X-WR-CALDESC:Events for Park District of Highland Park
REFRESH-INTERVAL;VALUE=DURATION:PT1H
X-Robots-Tag:noindex
X-PUBLISHED-TTL:PT1H
BEGIN:VTIMEZONE
TZID:America/Chicago
BEGIN:DAYLIGHT
TZOFFSETFROM:-0600
TZOFFSETTO:-0500
TZNAME:CDT
DTSTART:20250309T080000
END:DAYLIGHT
BEGIN:STANDARD
TZOFFSETFROM:-0500
TZOFFSETTO:-0600
TZNAME:CST
DTSTART:20251102T070000
END:STANDARD
BEGIN:DAYLIGHT
TZOFFSETFROM:-0600
TZOFFSETTO:-0500
TZNAME:CDT
DTSTART:20260308T080000
END:DAYLIGHT
BEGIN:STANDARD
TZOFFSETFROM:-0500
TZOFFSETTO:-0600
TZNAME:CST
DTSTART:20261101T070000
END:STANDARD
BEGIN:DAYLIGHT
TZOFFSETFROM:-0600
TZOFFSETTO:-0500
TZNAME:CDT
DTSTART:20270314T080000
END:DAYLIGHT
BEGIN:STANDARD
TZOFFSETFROM:-0500
TZOFFSETTO:-0600
TZNAME:CST
DTSTART:20271107T070000
END:STANDARD
END:VTIMEZONE
BEGIN:VEVENT
DTSTART;TZID=America/Chicago:20260507T093000
DTEND;TZID=America/Chicago:20260507T101500
DTSTAMP:20260420T082102
CREATED:20260203T211110Z
LAST-MODIFIED:20260317T152226Z
UID:10006344-1778146200-1778148900@www.pdhp.org
SUMMARY:Screen Free Week: Chalk a Palooza
DESCRIPTION:
URL:https://www.pdhp.org/event/screen-free-week-chalk-a-palooza/
LOCATION:West Ridge Center\, 636 Ridge Road\, Highland Park\, IL\, 60035\, United States
CATEGORIES:Free,Spring
END:VEVENT
BEGIN:VEVENT
DTSTART;TZID=America/Chicago:20260507T160000
DTEND;TZID=America/Chicago:20260507T180000
DTSTAMP:20260420T082102
CREATED:20260203T203839Z
LAST-MODIFIED:20260317T152357Z
UID:10006341-1778169600-1778176800@www.pdhp.org
SUMMARY:Screen Free Week: Open Swim
DESCRIPTION:
URL:https://www.pdhp.org/event/screen-free-week-open-swim/
LOCATION:Park Fitness\, 1207 Park Avenue West\, Highland Park\, IL\, 60035\, United States
CATEGORIES:Free,Spring
END:VEVENT
BEGIN:VEVENT
DTSTART;TZID=America/Chicago:20260508T153000
DTEND;TZID=America/Chicago:20260508T170000
DTSTAMP:20260420T082102
CREATED:20260414T212457Z
LAST-MODIFIED:20260414T212459Z
UID:10006436-1778254200-1778259600@www.pdhp.org
SUMMARY:Screen Free Week: Compost Pop-Up
DESCRIPTION:
URL:https://www.pdhp.org/event/screen-free-week-compost-pop-up/
LOCATION:The Preserve of Highland Park\, 1207 Park Ave West\, Highland Park\, IL\, 60035\, United States
CATEGORIES:Free,Summer
END:VEVENT
BEGIN:VEVENT
DTSTART;TZID=America/Chicago:20260508T160000
DTEND;TZID=America/Chicago:20260508T170000
DTSTAMP:20260420T082102
CREATED:20260123T170530Z
LAST-MODIFIED:20260123T170536Z
UID:10006267-1778256000-1778259600@www.pdhp.org
SUMMARY:Community Yoga at Park Fitness
DESCRIPTION:Thank You to Our Generous Sponsor:
URL:https://www.pdhp.org/event/community-yoga-at-park-fitness-5/2026-05-08/
LOCATION:Park Fitness\, 1207 Park Avenue West\, Highland Park\, IL\, 60035\, United States
CATEGORIES:Free
END:VEVENT
BEGIN:VEVENT
DTSTART;TZID=America/Chicago:20260515T160000
DTEND;TZID=America/Chicago:20260515T170000
DTSTAMP:20260420T082102
CREATED:20260123T170530Z
LAST-MODIFIED:20260123T170536Z
UID:10006268-1778860800-1778864400@www.pdhp.org
SUMMARY:Community Yoga at Park Fitness
DESCRIPTION:Thank You to Our Generous Sponsor:
URL:https://www.pdhp.org/event/community-yoga-at-park-fitness-5/2026-05-15/
LOCATION:Park Fitness\, 1207 Park Avenue West\, Highland Park\, IL\, 60035\, United States
CATEGORIES:Free
END:VEVENT
BEGIN:VEVENT
DTSTART;TZID=America/Chicago:20260522T160000
DTEND;TZID=America/Chicago:20260522T170000
DTSTAMP:20260420T082102
CREATED:20260123T170530Z
LAST-MODIFIED:20260123T170536Z
UID:10006269-1779465600-1779469200@www.pdhp.org
SUMMARY:Community Yoga at Park Fitness
DESCRIPTION:Thank You to Our Generous Sponsor:
URL:https://www.pdhp.org/event/community-yoga-at-park-fitness-5/2026-05-22/
LOCATION:Park Fitness\, 1207 Park Avenue West\, Highland Park\, IL\, 60035\, United States
CATEGORIES:Free
END:VEVENT
BEGIN:VEVENT
DTSTART;TZID=America/Chicago:20260610T113000
DTEND;TZID=America/Chicago:20260610T123000
DTSTAMP:20260420T082102
CREATED:20260414T142426Z
LAST-MODIFIED:20260414T142457Z
UID:10006430-1781091000-1781094600@www.pdhp.org
SUMMARY:Heller Discovery Hour
DESCRIPTION:
URL:https://www.pdhp.org/event/heller-discovery-hour/2026-06-10/
LOCATION:Heller Nature Center\, 2821 Ridge Road\, Highland Park\, IL\, 60035\, United States
CATEGORIES:Free,Summer
END:VEVENT
BEGIN:VEVENT
DTSTART;TZID=America/Chicago:20260617T100000
DTEND;TZID=America/Chicago:20260617T103000
DTSTAMP:20260420T082102
CREATED:20260416T171617Z
LAST-MODIFIED:20260416T202011Z
UID:10006480-1781690400-1781692200@www.pdhp.org
SUMMARY:Preview: PlayFit on the Lawn
DESCRIPTION:
URL:https://www.pdhp.org/event/preview-playfit-on-the-lawn/2026-06-17/
LOCATION:West Ridge Center\, 636 Ridge Road\, Highland Park\, IL\, 60035\, United States
CATEGORIES:Free,Summer
END:VEVENT
BEGIN:VEVENT
DTSTART;TZID=America/Chicago:20260617T100000
DTEND;TZID=America/Chicago:20260617T110000
DTSTAMP:20260420T082102
CREATED:20260415T204622Z
LAST-MODIFIED:20260415T204625Z
UID:10006445-1781690400-1781694000@www.pdhp.org
SUMMARY:Tiny Creatures: All About Insects
DESCRIPTION:
URL:https://www.pdhp.org/event/tiny-creatures-all-about-insects/
LOCATION:Heller Nature Center\, 2821 Ridge Road\, Highland Park\, IL\, 60035\, United States
CATEGORIES:Free,Summer
END:VEVENT
BEGIN:VEVENT
DTSTART;TZID=America/Chicago:20260624T113000
DTEND;TZID=America/Chicago:20260624T123000
DTSTAMP:20260420T082102
CREATED:20260414T142426Z
LAST-MODIFIED:20260414T142457Z
UID:10006431-1782300600-1782304200@www.pdhp.org
SUMMARY:Heller Discovery Hour
DESCRIPTION:
URL:https://www.pdhp.org/event/heller-discovery-hour/2026-06-24/
LOCATION:Heller Nature Center\, 2821 Ridge Road\, Highland Park\, IL\, 60035\, United States
CATEGORIES:Free,Summer
END:VEVENT
BEGIN:VEVENT
DTSTART;TZID=America/Chicago:20260627T100000
DTEND;TZID=America/Chicago:20260627T120000
DTSTAMP:20260420T082102
CREATED:20260415T195157Z
LAST-MODIFIED:20260415T195200Z
UID:10006443-1782554400-1782561600@www.pdhp.org
SUMMARY:Nature Playdates
DESCRIPTION:
URL:https://www.pdhp.org/event/nature-playdates-3/2026-06-27/
LOCATION:Heller Nature Center\, 2821 Ridge Road\, Highland Park\, IL\, 60035\, United States
CATEGORIES:Free,Summer
END:VEVENT
BEGIN:VEVENT
DTSTART;TZID=America/Chicago:20260708T113000
DTEND;TZID=America/Chicago:20260708T123000
DTSTAMP:20260420T082102
CREATED:20260414T142426Z
LAST-MODIFIED:20260414T142457Z
UID:10006432-1783510200-1783513800@www.pdhp.org
SUMMARY:Heller Discovery Hour
DESCRIPTION:
URL:https://www.pdhp.org/event/heller-discovery-hour/2026-07-08/
LOCATION:Heller Nature Center\, 2821 Ridge Road\, Highland Park\, IL\, 60035\, United States
CATEGORIES:Free,Summer
END:VEVENT
BEGIN:VEVENT
DTSTART;TZID=America/Chicago:20260708T123000
DTEND;TZID=America/Chicago:20260708T130000
DTSTAMP:20260420T082102
CREATED:20260416T171617Z
LAST-MODIFIED:20260416T202011Z
UID:10006467-1783513800-1783515600@www.pdhp.org
SUMMARY:Preview: PlayFit on the Lawn
DESCRIPTION:
URL:https://www.pdhp.org/event/preview-playfit-on-the-lawn/2026-07-08/
LOCATION:West Ridge Center\, 636 Ridge Road\, Highland Park\, IL\, 60035\, United States
CATEGORIES:Free,Summer
END:VEVENT
BEGIN:VEVENT
DTSTART;TZID=America/Chicago:20260714T100000
DTEND;TZID=America/Chicago:20260714T110000
DTSTAMP:20260420T082102
CREATED:20260415T214720Z
LAST-MODIFIED:20260415T214722Z
UID:10006450-1784023200-1784026800@www.pdhp.org
SUMMARY:Alphabet Hike
DESCRIPTION:
URL:https://www.pdhp.org/event/alphabet-hike/
LOCATION:Heller Nature Center\, 2821 Ridge Road\, Highland Park\, IL\, 60035\, United States
CATEGORIES:Free,Summer
END:VEVENT
BEGIN:VEVENT
DTSTART;TZID=America/Chicago:20260718T100000
DTEND;TZID=America/Chicago:20260718T110000
DTSTAMP:20260420T082102
CREATED:20260416T183317Z
LAST-MODIFIED:20260416T183437Z
UID:10006470-1784368800-1784372400@www.pdhp.org
SUMMARY:Financial Literacy
DESCRIPTION:
URL:https://www.pdhp.org/event/financial-literacy/2026-07-18/1/
LOCATION:West Ridge Center\, 636 Ridge Road\, Highland Park\, IL\, 60035\, United States
CATEGORIES:Free,Summer
END:VEVENT
BEGIN:VEVENT
DTSTART;TZID=America/Chicago:20260718T110000
DTEND;TZID=America/Chicago:20260718T120000
DTSTAMP:20260420T082102
CREATED:20260416T183317Z
LAST-MODIFIED:20260416T183437Z
UID:10006471-1784372400-1784376000@www.pdhp.org
SUMMARY:Financial Literacy
DESCRIPTION:
URL:https://www.pdhp.org/event/financial-literacy/2026-07-18/2/
LOCATION:West Ridge Center\, 636 Ridge Road\, Highland Park\, IL\, 60035\, United States
CATEGORIES:Free,Summer
END:VEVENT
BEGIN:VEVENT
DTSTART;TZID=America/Chicago:20260722T113000
DTEND;TZID=America/Chicago:20260722T123000
DTSTAMP:20260420T082102
CREATED:20260414T142426Z
LAST-MODIFIED:20260414T142457Z
UID:10006433-1784719800-1784723400@www.pdhp.org
SUMMARY:Heller Discovery Hour
DESCRIPTION:
URL:https://www.pdhp.org/event/heller-discovery-hour/2026-07-22/
LOCATION:Heller Nature Center\, 2821 Ridge Road\, Highland Park\, IL\, 60035\, United States
CATEGORIES:Free,Summer
END:VEVENT
BEGIN:VEVENT
DTSTART;TZID=America/Chicago:20260725T100000
DTEND;TZID=America/Chicago:20260725T120000
DTSTAMP:20260420T082102
CREATED:20260415T195157Z
LAST-MODIFIED:20260415T195200Z
UID:10006444-1784973600-1784980800@www.pdhp.org
SUMMARY:Nature Playdates
DESCRIPTION:
URL:https://www.pdhp.org/event/nature-playdates-3/2026-07-25/
LOCATION:Heller Nature Center\, 2821 Ridge Road\, Highland Park\, IL\, 60035\, United States
CATEGORIES:Free,Summer
END:VEVENT
BEGIN:VEVENT
DTSTART;TZID=America/Chicago:20260801T193000
DTEND;TZID=America/Chicago:20260801T213000
DTSTAMP:20260420T082102
CREATED:20260415T220140Z
LAST-MODIFIED:20260415T220141Z
UID:10006458-1785612600-1785619800@www.pdhp.org
SUMMARY:Night at the Nature Center: After Hours Exploring
DESCRIPTION:
URL:https://www.pdhp.org/event/night-at-the-nature-center-after-hours-exploring/
LOCATION:Heller Nature Center\, 2821 Ridge Road\, Highland Park\, IL\, 60035\, United States
CATEGORIES:Free,Summer
END:VEVENT
BEGIN:VEVENT
DTSTART;TZID=America/Chicago:20260805T113000
DTEND;TZID=America/Chicago:20260805T123000
DTSTAMP:20260420T082102
CREATED:20260414T142426Z
LAST-MODIFIED:20260414T142457Z
UID:10006434-1785929400-1785933000@www.pdhp.org
SUMMARY:Heller Discovery Hour
DESCRIPTION:
URL:https://www.pdhp.org/event/heller-discovery-hour/2026-08-05/
LOCATION:Heller Nature Center\, 2821 Ridge Road\, Highland Park\, IL\, 60035\, United States
CATEGORIES:Free,Summer
END:VEVENT
BEGIN:VEVENT
DTSTART;TZID=America/Chicago:20260819T113000
DTEND;TZID=America/Chicago:20260819T123000
DTSTAMP:20260420T082102
CREATED:20260414T142426Z
LAST-MODIFIED:20260414T142457Z
UID:10006435-1787139000-1787142600@www.pdhp.org
SUMMARY:Heller Discovery Hour
DESCRIPTION:
URL:https://www.pdhp.org/event/heller-discovery-hour/2026-08-19/
LOCATION:Heller Nature Center\, 2821 Ridge Road\, Highland Park\, IL\, 60035\, United States
CATEGORIES:Free,Summer
END:VEVENT
BEGIN:VEVENT
DTSTART;TZID=America/Chicago:20260829T100000
DTEND;TZID=America/Chicago:20260829T120000
DTSTAMP:20260420T082102
CREATED:20260416T145557Z
LAST-MODIFIED:20260416T145558Z
UID:10006460-1787997600-1788004800@www.pdhp.org
SUMMARY:Honey Harvest Festival
DESCRIPTION:
URL:https://www.pdhp.org/event/honey-harvest-festival/
LOCATION:Heller Nature Center\, 2821 Ridge Road\, Highland Park\, IL\, 60035\, United States
CATEGORIES:Free,Summer
END:VEVENT
END:VCALENDAR