BEGIN:VCALENDAR
VERSION:2.0
PRODID:-//Park District of Highland Park - ECPv6.15.17.1//NONSGML v1.0//EN
CALSCALE:GREGORIAN
METHOD:PUBLISH
X-ORIGINAL-URL:https://www.pdhp.org
X-WR-CALDESC:Events for Park District of Highland Park
REFRESH-INTERVAL;VALUE=DURATION:PT1H
X-Robots-Tag:noindex
X-PUBLISHED-TTL:PT1H
BEGIN:VTIMEZONE
TZID:America/Chicago
BEGIN:DAYLIGHT
TZOFFSETFROM:-0600
TZOFFSETTO:-0500
TZNAME:CDT
DTSTART:20250309T080000
END:DAYLIGHT
BEGIN:STANDARD
TZOFFSETFROM:-0500
TZOFFSETTO:-0600
TZNAME:CST
DTSTART:20251102T070000
END:STANDARD
BEGIN:DAYLIGHT
TZOFFSETFROM:-0600
TZOFFSETTO:-0500
TZNAME:CDT
DTSTART:20260308T080000
END:DAYLIGHT
BEGIN:STANDARD
TZOFFSETFROM:-0500
TZOFFSETTO:-0600
TZNAME:CST
DTSTART:20261101T070000
END:STANDARD
BEGIN:DAYLIGHT
TZOFFSETFROM:-0600
TZOFFSETTO:-0500
TZNAME:CDT
DTSTART:20270314T080000
END:DAYLIGHT
BEGIN:STANDARD
TZOFFSETFROM:-0500
TZOFFSETTO:-0600
TZNAME:CST
DTSTART:20271107T070000
END:STANDARD
END:VTIMEZONE
BEGIN:VEVENT
DTSTART;TZID=America/Chicago:20260408T180000
DTEND;TZID=America/Chicago:20260408T190000
DTSTAMP:20260421T115634
CREATED:20260102T164455Z
LAST-MODIFIED:20260102T164459Z
UID:10006101-1775671200-1775674800@www.pdhp.org
SUMMARY:Workshop Meeting
DESCRIPTION:
URL:https://www.pdhp.org/event/workshop-meeting-2/2026-04-08/
LOCATION:West Ridge Community Center\, 636 Ridge Road\, Highland Park\, IL\, 60035\, United States
CATEGORIES:Meetings
END:VEVENT
BEGIN:VEVENT
DTSTART;TZID=America/Chicago:20260311T180000
DTEND;TZID=America/Chicago:20260311T190000
DTSTAMP:20260421T115634
CREATED:20260102T163810Z
LAST-MODIFIED:20260102T164002Z
UID:10006100-1773252000-1773255600@www.pdhp.org
SUMMARY:Workshop Meeting
DESCRIPTION:
URL:https://www.pdhp.org/event/workshop-meeting/2026-03-11/
LOCATION:West Ridge Community Center\, 636 Ridge Road\, Highland Park\, IL\, 60035\, United States
CATEGORIES:Meetings
END:VEVENT
BEGIN:VEVENT
DTSTART;TZID=America/Chicago:20260211T180000
DTEND;TZID=America/Chicago:20260211T190000
DTSTAMP:20260421T115634
CREATED:20260102T163810Z
LAST-MODIFIED:20260102T164002Z
UID:10006099-1770832800-1770836400@www.pdhp.org
SUMMARY:Workshop Meeting
DESCRIPTION:
URL:https://www.pdhp.org/event/workshop-meeting/2026-02-11/
LOCATION:West Ridge Community Center\, 636 Ridge Road\, Highland Park\, IL\, 60035\, United States
CATEGORIES:Meetings
END:VEVENT
BEGIN:VEVENT
DTSTART;TZID=America/Chicago:20260114T180000
DTEND;TZID=America/Chicago:20260114T190000
DTSTAMP:20260421T115634
CREATED:20260102T163810Z
LAST-MODIFIED:20260102T164002Z
UID:10006098-1768413600-1768417200@www.pdhp.org
SUMMARY:Workshop Meeting
DESCRIPTION:
URL:https://www.pdhp.org/event/workshop-meeting/2026-01-14/
LOCATION:West Ridge Community Center\, 636 Ridge Road\, Highland Park\, IL\, 60035\, United States
CATEGORIES:Meetings
END:VEVENT
END:VCALENDAR