BEGIN:VCALENDAR
VERSION:2.0
PRODID:-//Park District of Highland Park - ECPv6.15.17.1//NONSGML v1.0//EN
CALSCALE:GREGORIAN
METHOD:PUBLISH
X-WR-CALNAME:Park District of Highland Park
X-ORIGINAL-URL:https://www.pdhp.org
X-WR-CALDESC:Events for Park District of Highland Park
REFRESH-INTERVAL;VALUE=DURATION:PT1H
X-Robots-Tag:noindex
X-PUBLISHED-TTL:PT1H
BEGIN:VTIMEZONE
TZID:America/Chicago
BEGIN:DAYLIGHT
TZOFFSETFROM:-0600
TZOFFSETTO:-0500
TZNAME:CDT
DTSTART:20250309T080000
END:DAYLIGHT
BEGIN:STANDARD
TZOFFSETFROM:-0500
TZOFFSETTO:-0600
TZNAME:CST
DTSTART:20251102T070000
END:STANDARD
BEGIN:DAYLIGHT
TZOFFSETFROM:-0600
TZOFFSETTO:-0500
TZNAME:CDT
DTSTART:20260308T080000
END:DAYLIGHT
BEGIN:STANDARD
TZOFFSETFROM:-0500
TZOFFSETTO:-0600
TZNAME:CST
DTSTART:20261101T070000
END:STANDARD
BEGIN:DAYLIGHT
TZOFFSETFROM:-0600
TZOFFSETTO:-0500
TZNAME:CDT
DTSTART:20270314T080000
END:DAYLIGHT
BEGIN:STANDARD
TZOFFSETFROM:-0500
TZOFFSETTO:-0600
TZNAME:CST
DTSTART:20271107T070000
END:STANDARD
END:VTIMEZONE
BEGIN:VEVENT
DTSTART;TZID=America/Chicago:20260422T080000
DTEND;TZID=America/Chicago:20260422T170000
DTSTAMP:20260421T152459
CREATED:20260128T191018Z
LAST-MODIFIED:20260323T184646Z
UID:10006329-1776844800-1776877200@www.pdhp.org
SUMMARY:Earth Week
DESCRIPTION:
URL:https://www.pdhp.org/event/earth-week/2026-04-22/
LOCATION:IL
CATEGORIES:Spring,Sustainable
END:VEVENT
BEGIN:VEVENT
DTSTART;TZID=America/Chicago:20260422T100000
DTEND;TZID=America/Chicago:20260422T110000
DTSTAMP:20260421T152459
CREATED:20260128T163051Z
LAST-MODIFIED:20260317T144154Z
UID:10006308-1776852000-1776855600@www.pdhp.org
SUMMARY:Stories in the Sand
DESCRIPTION:
URL:https://www.pdhp.org/event/stories-in-the-sand/2026-04-22/
LOCATION:Rosewood Beach\, 883 Sheridan Road\, Highland Park\, IL\, 60035\, United States
CATEGORIES:Nature,Spring
END:VEVENT
BEGIN:VEVENT
DTSTART;TZID=America/Chicago:20260424T163000
DTEND;TZID=America/Chicago:20260424T183000
DTSTAMP:20260421T152459
CREATED:20260127T194453Z
LAST-MODIFIED:20260127T194457Z
UID:10006273-1777048200-1777055400@www.pdhp.org
SUMMARY:Junior Pickleball & Pizza Night
DESCRIPTION:
URL:https://www.pdhp.org/event/junior-pickleball-pizza-night/
LOCATION:Club Pickle & Padel\, 2205 Skokie Valley Rd\, Highland Park\, IL\, 60035\, United States
CATEGORIES:Spring
END:VEVENT
BEGIN:VEVENT
DTSTART;TZID=America/Chicago:20260424T170000
DTEND;TZID=America/Chicago:20260424T180000
DTSTAMP:20260421T152459
CREATED:20260128T191018Z
LAST-MODIFIED:20260323T184646Z
UID:10006358-1777050000-1777053600@www.pdhp.org
SUMMARY:Earth Week
DESCRIPTION:
URL:https://www.pdhp.org/event/earth-week/2026-04-24/
LOCATION:IL
CATEGORIES:Spring,Sustainable
END:VEVENT
BEGIN:VEVENT
DTSTART;TZID=America/Chicago:20260425T100000
DTEND;TZID=America/Chicago:20260425T120000
DTSTAMP:20260421T152459
CREATED:20260127T215526Z
LAST-MODIFIED:20260317T143114Z
UID:10006286-1777111200-1777118400@www.pdhp.org
SUMMARY:Nature Playdates
DESCRIPTION:
URL:https://www.pdhp.org/event/nature-playdates-2/2026-04-25/
LOCATION:Heller Nature Center\, 2821 Ridge Road\, Highland Park\, IL\, 60035\, United States
CATEGORIES:Nature,Spring
END:VEVENT
BEGIN:VEVENT
DTSTART;TZID=America/Chicago:20260426T163000
DTEND;TZID=America/Chicago:20260426T174500
DTSTAMP:20260421T152459
CREATED:20260128T154534Z
LAST-MODIFIED:20260317T150800Z
UID:10006301-1777221000-1777225500@www.pdhp.org
SUMMARY:Family Archery Nights
DESCRIPTION:
URL:https://www.pdhp.org/event/family-archery-nights-3/2026-04-26/
LOCATION:Heller Nature Center\, 2821 Ridge Road\, Highland Park\, IL\, 60035\, United States
CATEGORIES:Nature,Spring,Sustainable
END:VEVENT
BEGIN:VEVENT
DTSTART;TZID=America/Chicago:20260429T100000
DTEND;TZID=America/Chicago:20260429T110000
DTSTAMP:20260421T152459
CREATED:20260127T213203Z
LAST-MODIFIED:20260317T141439Z
UID:10006282-1777456800-1777460400@www.pdhp.org
SUMMARY:Stories in the Woods
DESCRIPTION:
URL:https://www.pdhp.org/event/stories-in-the-woods-6/2026-04-29/
LOCATION:Heller Nature Center\, 2821 Ridge Road\, Highland Park\, IL\, 60035\, United States
CATEGORIES:Nature,Spring,Sustainable
END:VEVENT
END:VCALENDAR