BEGIN:VCALENDAR
VERSION:2.0
PRODID:-//Park District of Highland Park - ECPv6.15.17.1//NONSGML v1.0//EN
CALSCALE:GREGORIAN
METHOD:PUBLISH
X-WR-CALNAME:Park District of Highland Park
X-ORIGINAL-URL:https://www.pdhp.org
X-WR-CALDESC:Events for Park District of Highland Park
REFRESH-INTERVAL;VALUE=DURATION:PT1H
X-Robots-Tag:noindex
X-PUBLISHED-TTL:PT1H
BEGIN:VTIMEZONE
TZID:America/Chicago
BEGIN:DAYLIGHT
TZOFFSETFROM:-0600
TZOFFSETTO:-0500
TZNAME:CDT
DTSTART:20240310T080000
END:DAYLIGHT
BEGIN:STANDARD
TZOFFSETFROM:-0500
TZOFFSETTO:-0600
TZNAME:CST
DTSTART:20241103T070000
END:STANDARD
BEGIN:DAYLIGHT
TZOFFSETFROM:-0600
TZOFFSETTO:-0500
TZNAME:CDT
DTSTART:20250309T080000
END:DAYLIGHT
BEGIN:STANDARD
TZOFFSETFROM:-0500
TZOFFSETTO:-0600
TZNAME:CST
DTSTART:20251102T070000
END:STANDARD
BEGIN:DAYLIGHT
TZOFFSETFROM:-0600
TZOFFSETTO:-0500
TZNAME:CDT
DTSTART:20260308T080000
END:DAYLIGHT
BEGIN:STANDARD
TZOFFSETFROM:-0500
TZOFFSETTO:-0600
TZNAME:CST
DTSTART:20261101T070000
END:STANDARD
BEGIN:DAYLIGHT
TZOFFSETFROM:-0600
TZOFFSETTO:-0500
TZNAME:CDT
DTSTART:20270314T080000
END:DAYLIGHT
BEGIN:STANDARD
TZOFFSETFROM:-0500
TZOFFSETTO:-0600
TZNAME:CST
DTSTART:20271107T070000
END:STANDARD
END:VTIMEZONE
BEGIN:VEVENT
DTSTART;TZID=America/Chicago:20250507T100000
DTEND;TZID=America/Chicago:20250507T110000
DTSTAMP:20260421T194536
CREATED:20250130T145742Z
LAST-MODIFIED:20250130T145914Z
UID:10003669-1746612000-1746615600@www.pdhp.org
SUMMARY:Stories in the Sand
DESCRIPTION:
URL:https://www.pdhp.org/event/stories-in-the-sand-15/2025-05-07/
LOCATION:Rosewood Beach\, 883 Sheridan Road\, Highland Park\, IL\, 60035\, United States
CATEGORIES:Spring
END:VEVENT
BEGIN:VEVENT
DTSTART;TZID=America/Chicago:20250507T100000
DTEND;TZID=America/Chicago:20250507T110000
DTSTAMP:20260421T194536
CREATED:20250130T212212Z
LAST-MODIFIED:20250130T212215Z
UID:10003685-1746612000-1746615600@www.pdhp.org
SUMMARY:Screen Break Week: Chalk-a-Palooza
DESCRIPTION:
URL:https://www.pdhp.org/event/screen-break-week-chalk-a-palooza-2/
LOCATION:West Ridge Community Center\, 636 Ridge Road\, Highland Park\, IL\, 60035\, United States
CATEGORIES:Free,Spring
END:VEVENT
BEGIN:VEVENT
DTSTART;TZID=America/Chicago:20250508T100000
DTEND;TZID=America/Chicago:20250508T110000
DTSTAMP:20260421T194536
CREATED:20250417T211225Z
LAST-MODIFIED:20250417T212305Z
UID:10003781-1746698400-1746702000@www.pdhp.org
SUMMARY:Petals and Pastries
DESCRIPTION:
URL:https://www.pdhp.org/event/petals-and-pastries-2/
LOCATION:West Ridge Community Center\, 636 Ridge Road\, Highland Park\, IL\, 60035\, United States
CATEGORIES:Spring
END:VEVENT
BEGIN:VEVENT
DTSTART;TZID=America/Chicago:20250508T160000
DTEND;TZID=America/Chicago:20250508T180000
DTSTAMP:20260421T194536
CREATED:20250130T212547Z
LAST-MODIFIED:20250130T212551Z
UID:10003686-1746720000-1746727200@www.pdhp.org
SUMMARY:Screen Break Week: Open Swim
DESCRIPTION:
URL:https://www.pdhp.org/event/screen-break-week-open-swim-2/
LOCATION:Park Fitness\, 1207 Park Avenue West\, Highland Park\, IL\, 60035\, United States
CATEGORIES:Free,Spring
END:VEVENT
BEGIN:VEVENT
DTSTART;TZID=America/Chicago:20250509T151500
DTEND;TZID=America/Chicago:20250509T194500
DTSTAMP:20260421T194536
CREATED:20250130T212928Z
LAST-MODIFIED:20250130T212932Z
UID:10003687-1746803700-1746819900@www.pdhp.org
SUMMARY:Screen Break Week: Open Gym
DESCRIPTION:
URL:https://www.pdhp.org/event/screen-break-week-open-gym-2/
LOCATION:Park Fitness\, 1207 Park Avenue West\, Highland Park\, IL\, 60035\, United States
CATEGORIES:Free,Spring
END:VEVENT
BEGIN:VEVENT
DTSTART;TZID=America/Chicago:20250510T090000
DTEND;TZID=America/Chicago:20250510T120000
DTSTAMP:20260421T194536
CREATED:20250429T190245Z
LAST-MODIFIED:20250429T190252Z
UID:10003857-1746867600-1746878400@www.pdhp.org
SUMMARY:Screen Break Week: Chicago River Day
DESCRIPTION:
URL:https://www.pdhp.org/event/screen-break-week-chicago-river-day/
LOCATION:The Preserve of Highland Park\, 1207 Park Ave West\, Highland Park\, IL\, 60035\, United States
CATEGORIES:Spring
END:VEVENT
BEGIN:VEVENT
DTSTART;TZID=America/Chicago:20250511T090000
DTEND;TZID=America/Chicago:20250511T180000
DTSTAMP:20260421T194536
CREATED:20250207T150509Z
LAST-MODIFIED:20250207T150512Z
UID:10003689-1746954000-1746986400@www.pdhp.org
SUMMARY:Mother’s Day Miniature Golf
DESCRIPTION:
URL:https://www.pdhp.org/event/mothers-day-miniature-golf-3/
LOCATION:River’s Edge Mini Golf\, 2203 Skokie Valley Road\, Highland Park\, IL\, 60035\, United States
CATEGORIES:Spring
END:VEVENT
BEGIN:VEVENT
DTSTART;TZID=America/Chicago:20250511T100000
DTEND;TZID=America/Chicago:20250511T113000
DTSTAMP:20260421T194536
CREATED:20250203T154639Z
LAST-MODIFIED:20250203T175804Z
UID:10003688-1746957600-1746963000@www.pdhp.org
SUMMARY:Mother's Day Yoga & Mimosas
DESCRIPTION:
URL:https://www.pdhp.org/event/mothers-day-yoga-mimosas-3/
LOCATION:Rosewood Beach Interpretive Center\, 883 Sheridan Road\, Highland Park\, Illinois\, 60035
CATEGORIES:Spring
END:VEVENT
BEGIN:VEVENT
DTSTART;TZID=America/Chicago:20250514T100000
DTEND;TZID=America/Chicago:20250514T110000
DTSTAMP:20260421T194536
CREATED:20250129T203432Z
LAST-MODIFIED:20250206T193622Z
UID:10003640-1747216800-1747220400@www.pdhp.org
SUMMARY:Stories in the Woods
DESCRIPTION:
URL:https://www.pdhp.org/event/stories-in-the-woods-41/2025-05-14/
LOCATION:Heller Nature Center\, 2821 Ridge Road\, Highland Park\, IL\, 60035\, United States
CATEGORIES:Spring
END:VEVENT
BEGIN:VEVENT
DTSTART;TZID=America/Chicago:20250516T190000
DTEND;TZID=America/Chicago:20250516T200000
DTSTAMP:20260421T194536
CREATED:20250129T224907Z
LAST-MODIFIED:20250129T224910Z
UID:10003657-1747422000-1747425600@www.pdhp.org
SUMMARY:Twilight Trekkers Campfire
DESCRIPTION:
URL:https://www.pdhp.org/event/twilight-trekkers-campfire/
LOCATION:The Preserve of Highland Park\, 1207 Park Ave West\, Highland Park\, IL\, 60035\, United States
CATEGORIES:Spring
END:VEVENT
BEGIN:VEVENT
DTSTART;TZID=America/Chicago:20250521T100000
DTEND;TZID=America/Chicago:20250521T110000
DTSTAMP:20260421T194536
CREATED:20250130T145742Z
LAST-MODIFIED:20250130T145914Z
UID:10003670-1747821600-1747825200@www.pdhp.org
SUMMARY:Stories in the Sand
DESCRIPTION:
URL:https://www.pdhp.org/event/stories-in-the-sand-15/2025-05-21/
LOCATION:Rosewood Beach\, 883 Sheridan Road\, Highland Park\, IL\, 60035\, United States
CATEGORIES:Spring
END:VEVENT
BEGIN:VEVENT
DTSTART;TZID=America/Chicago:20250528T100000
DTEND;TZID=America/Chicago:20250528T110000
DTSTAMP:20260421T194536
CREATED:20250129T203432Z
LAST-MODIFIED:20250206T193622Z
UID:10003641-1748426400-1748430000@www.pdhp.org
SUMMARY:Stories in the Woods
DESCRIPTION:
URL:https://www.pdhp.org/event/stories-in-the-woods-41/2025-05-28/
LOCATION:Heller Nature Center\, 2821 Ridge Road\, Highland Park\, IL\, 60035\, United States
CATEGORIES:Spring
END:VEVENT
BEGIN:VEVENT
DTSTART;TZID=America/Chicago:20250531T100000
DTEND;TZID=America/Chicago:20250531T110000
DTSTAMP:20260421T194536
CREATED:20250129T232150Z
LAST-MODIFIED:20250129T232153Z
UID:10003665-1748685600-1748689200@www.pdhp.org
SUMMARY:Nature Playdates
DESCRIPTION:
URL:https://www.pdhp.org/event/nature-playdates/2025-05-31/
LOCATION:Heller Nature Center\, 2821 Ridge Road\, Highland Park\, IL\, 60035\, United States
CATEGORIES:Free,Spring
END:VEVENT
BEGIN:VEVENT
DTSTART;TZID=America/Chicago:20250531T120000
DTEND;TZID=America/Chicago:20250531T143000
DTSTAMP:20260421T194536
CREATED:20250129T230537Z
LAST-MODIFIED:20250129T230540Z
UID:10003661-1748692800-1748701800@www.pdhp.org
SUMMARY:Spring Paddle
DESCRIPTION:
URL:https://www.pdhp.org/event/spring-paddle/
LOCATION:Heller Nature Center\, 2821 Ridge Road\, Highland Park\, IL\, 60035\, United States
CATEGORIES:Spring
END:VEVENT
BEGIN:VEVENT
DTSTART;TZID=America/Chicago:20260303T173000
DTEND;TZID=America/Chicago:20260303T183000
DTSTAMP:20260421T194536
CREATED:20260120T193650Z
LAST-MODIFIED:20260120T193654Z
UID:10006246-1772559000-1772562600@www.pdhp.org
SUMMARY:Worm Moon Yoga
DESCRIPTION:
URL:https://www.pdhp.org/event/worm-moon-yoga/
LOCATION:Rosewood Beach\, 883 Sheridan Road\, Highland Park\, IL\, 60035\, United States
CATEGORIES:Spring
END:VEVENT
BEGIN:VEVENT
DTSTART;TZID=America/Chicago:20260306T190000
DTEND;TZID=America/Chicago:20260306T203000
DTSTAMP:20260421T194536
CREATED:20250128T222657Z
LAST-MODIFIED:20260218T201924Z
UID:10003631-1772823600-1772829000@www.pdhp.org
SUMMARY:Neon Skate Night
DESCRIPTION:
URL:https://www.pdhp.org/event/neon-night/
LOCATION:Centennial Ice Arena\, 3100 Trail Way\, Highland Park\, IL\, 60035\, United States
CATEGORIES:Spring
END:VEVENT
BEGIN:VEVENT
DTSTART;TZID=America/Chicago:20260307T103000
DTEND;TZID=America/Chicago:20260307T140000
DTSTAMP:20260421T194536
CREATED:20260119T175047Z
LAST-MODIFIED:20260119T175052Z
UID:10006244-1772879400-1772892000@www.pdhp.org
SUMMARY:Pancakes and Pirates
DESCRIPTION:
URL:https://www.pdhp.org/event/pancakes-and-pirates/
LOCATION:West Ridge Community Center\, 636 Ridge Road\, Highland Park\, IL\, 60035\, United States
CATEGORIES:Enrichment,Spring
END:VEVENT
BEGIN:VEVENT
DTSTART;TZID=America/Chicago:20260308T103000
DTEND;TZID=America/Chicago:20260308T130000
DTSTAMP:20260421T194536
CREATED:20260128T165336Z
LAST-MODIFIED:20260128T165339Z
UID:10006311-1772965800-1772974800@www.pdhp.org
SUMMARY:Girls Rock STEM!
DESCRIPTION:
URL:https://www.pdhp.org/event/girls-rock-stem/
LOCATION:Rosewood Beach\, 883 Sheridan Road\, Highland Park\, IL\, 60035\, United States
CATEGORIES:Nature,Spring
END:VEVENT
BEGIN:VEVENT
DTSTART;TZID=America/Chicago:20260311T100000
DTEND;TZID=America/Chicago:20260311T110000
DTSTAMP:20260421T194536
CREATED:20260127T220231Z
LAST-MODIFIED:20260306T165458Z
UID:10006288-1773223200-1773226800@www.pdhp.org
SUMMARY:Sounds of Spring
DESCRIPTION:
URL:https://www.pdhp.org/event/sounds-of-spring/
LOCATION:Heller Nature Center\, 2821 Ridge Road\, Highland Park\, IL\, 60035\, United States
CATEGORIES:Nature,Spring,Sustainable
END:VEVENT
BEGIN:VEVENT
DTSTART;TZID=America/Chicago:20260313T100000
DTEND;TZID=America/Chicago:20260313T110000
DTSTAMP:20260421T194536
CREATED:20260312T150207Z
LAST-MODIFIED:20260312T150207Z
UID:10006368-1773396000-1773399600@www.pdhp.org
SUMMARY:Toddler Trek
DESCRIPTION:
URL:https://www.pdhp.org/event/toddler-trek-3/
LOCATION:The Preserve of Highland Park\, 1207 Park Ave West\, Highland Park\, IL\, 60035\, United States
CATEGORIES:Nature,Spring
END:VEVENT
BEGIN:VEVENT
DTSTART;TZID=America/Chicago:20260314T130000
DTEND;TZID=America/Chicago:20260314T140000
DTSTAMP:20260421T194536
CREATED:20260127T221127Z
LAST-MODIFIED:20260127T221136Z
UID:10006291-1773493200-1773496800@www.pdhp.org
SUMMARY:On the Hunt for Luck
DESCRIPTION:
URL:https://www.pdhp.org/event/on-the-hunt-for-luck/
LOCATION:Heller Nature Center\, 2821 Ridge Road\, Highland Park\, IL\, 60035\, United States
CATEGORIES:Nature,Spring
END:VEVENT
BEGIN:VEVENT
DTSTART;TZID=America/Chicago:20260315T133000
DTEND;TZID=America/Chicago:20260315T150000
DTSTAMP:20260421T194536
CREATED:20260212T161512Z
LAST-MODIFIED:20260212T161516Z
UID:10006348-1773581400-1773586800@www.pdhp.org
SUMMARY:Mat Pilates x Pickleball
DESCRIPTION:
URL:https://www.pdhp.org/event/mat-pilates-x-pickleball/
LOCATION:Club Pickle & Padel\, 2205 Skokie Valley Rd\, Highland Park\, IL\, 60035\, United States
CATEGORIES:Spring
END:VEVENT
BEGIN:VEVENT
DTSTART;TZID=America/Chicago:20260315T140000
DTEND;TZID=America/Chicago:20260315T150000
DTSTAMP:20260421T194536
CREATED:20260128T170146Z
LAST-MODIFIED:20260128T170154Z
UID:10006312-1773583200-1773586800@www.pdhp.org
SUMMARY:Tiny Terrariums
DESCRIPTION:
URL:https://www.pdhp.org/event/tiny-terrariums/
LOCATION:Rosewood Beach\, 883 Sheridan Road\, Highland Park\, IL\, 60035\, United States
CATEGORIES:Nature,Spring
END:VEVENT
BEGIN:VEVENT
DTSTART;TZID=America/Chicago:20260317T100000
DTEND;TZID=America/Chicago:20260317T110000
DTSTAMP:20260421T194536
CREATED:20260120T200400Z
LAST-MODIFIED:20260203T213727Z
UID:10006248-1773741600-1773745200@www.pdhp.org
SUMMARY:Lucky Leprechaun Adventure
DESCRIPTION:
URL:https://www.pdhp.org/event/lucky-leprechaun-adventure/
LOCATION:Heller Nature Center\, 2821 Ridge Road\, Highland Park\, IL\, 60035\, United States
CATEGORIES:Enrichment,Spring
END:VEVENT
BEGIN:VEVENT
DTSTART;TZID=America/Chicago:20260318T100000
DTEND;TZID=America/Chicago:20260318T110000
DTSTAMP:20260421T194536
CREATED:20260127T213203Z
LAST-MODIFIED:20260317T141439Z
UID:10006279-1773828000-1773831600@www.pdhp.org
SUMMARY:Stories in the Woods
DESCRIPTION:
URL:https://www.pdhp.org/event/stories-in-the-woods-6/2026-03-18/
LOCATION:Heller Nature Center\, 2821 Ridge Road\, Highland Park\, IL\, 60035\, United States
CATEGORIES:Nature,Spring,Sustainable
END:VEVENT
BEGIN:VEVENT
DTSTART;TZID=America/Chicago:20260319T190000
DTEND;TZID=America/Chicago:20260319T201500
DTSTAMP:20260421T194536
CREATED:20260127T221409Z
LAST-MODIFIED:20260317T141927Z
UID:10006292-1773946800-1773951300@www.pdhp.org
SUMMARY:Amphibian Pool Party
DESCRIPTION:
URL:https://www.pdhp.org/event/amphibian-pool-party/
LOCATION:Heller Nature Center\, 2821 Ridge Road\, Highland Park\, IL\, 60035\, United States
CATEGORIES:Nature,Spring
END:VEVENT
BEGIN:VEVENT
DTSTART;TZID=America/Chicago:20260320T180000
DTEND;TZID=America/Chicago:20260320T193000
DTSTAMP:20260421T194536
CREATED:20260127T221634Z
LAST-MODIFIED:20260317T142056Z
UID:10006293-1774029600-1774035000@www.pdhp.org
SUMMARY:Spring Awakening Campfire
DESCRIPTION:
URL:https://www.pdhp.org/event/spring-awakening-campfire/
LOCATION:Heller Nature Center\, 2821 Ridge Road\, Highland Park\, IL\, 60035\, United States
CATEGORIES:Nature,Spring
END:VEVENT
BEGIN:VEVENT
DTSTART;TZID=America/Chicago:20260321T130000
DTEND;TZID=America/Chicago:20260321T143000
DTSTAMP:20260421T194536
CREATED:20260128T171049Z
LAST-MODIFIED:20260317T142351Z
UID:10006313-1774098000-1774103400@www.pdhp.org
SUMMARY:UP\, UP & AWAY! Kite building
DESCRIPTION:
URL:https://www.pdhp.org/event/up-up-away-kite-building/
LOCATION:Rosewood Beach\, 883 Sheridan Road\, Highland Park\, IL\, 60035\, United States
CATEGORIES:Nature,Spring
END:VEVENT
BEGIN:VEVENT
DTSTART;TZID=America/Chicago:20260323T090000
DTEND;TZID=America/Chicago:20260327T120000
DTSTAMP:20260421T194536
CREATED:20260127T205846Z
LAST-MODIFIED:20260317T142524Z
UID:10006274-1774256400-1774612800@www.pdhp.org
SUMMARY:Junior Spring Break Tennis Camp
DESCRIPTION:
URL:https://www.pdhp.org/event/junior-spring-break-tennis-camp/
LOCATION:Deer Creek Racquet Club\, 701 Deer Creek Parkway\, Highland Park\, IL\, 60035\, United States
CATEGORIES:Spring,Spring Break
END:VEVENT
BEGIN:VEVENT
DTSTART;TZID=America/Chicago:20260323T090000
DTEND;TZID=America/Chicago:20260327T150000
DTSTAMP:20260421T194536
CREATED:20251030T162302Z
LAST-MODIFIED:20260317T142612Z
UID:10006041-1774256400-1774623600@www.pdhp.org
SUMMARY:STREAM Explorers Spring Break Camp
DESCRIPTION:
URL:https://www.pdhp.org/event/stream-explorers-spring-break-camp-2/
LOCATION:West Ridge Community Center\, 636 Ridge Road\, Highland Park\, IL\, 60035\, United States
CATEGORIES:Spring,Spring Break
END:VEVENT
END:VCALENDAR