BEGIN:VCALENDAR
VERSION:2.0
PRODID:-//Park District of Highland Park - ECPv6.15.17.1//NONSGML v1.0//EN
CALSCALE:GREGORIAN
METHOD:PUBLISH
X-ORIGINAL-URL:https://www.pdhp.org
X-WR-CALDESC:Events for Park District of Highland Park
REFRESH-INTERVAL;VALUE=DURATION:PT1H
X-Robots-Tag:noindex
X-PUBLISHED-TTL:PT1H
BEGIN:VTIMEZONE
TZID:America/Chicago
BEGIN:DAYLIGHT
TZOFFSETFROM:-0600
TZOFFSETTO:-0500
TZNAME:CDT
DTSTART:20240310T080000
END:DAYLIGHT
BEGIN:STANDARD
TZOFFSETFROM:-0500
TZOFFSETTO:-0600
TZNAME:CST
DTSTART:20241103T070000
END:STANDARD
BEGIN:DAYLIGHT
TZOFFSETFROM:-0600
TZOFFSETTO:-0500
TZNAME:CDT
DTSTART:20250309T080000
END:DAYLIGHT
BEGIN:STANDARD
TZOFFSETFROM:-0500
TZOFFSETTO:-0600
TZNAME:CST
DTSTART:20251102T070000
END:STANDARD
BEGIN:DAYLIGHT
TZOFFSETFROM:-0600
TZOFFSETTO:-0500
TZNAME:CDT
DTSTART:20260308T080000
END:DAYLIGHT
BEGIN:STANDARD
TZOFFSETFROM:-0500
TZOFFSETTO:-0600
TZNAME:CST
DTSTART:20261101T070000
END:STANDARD
BEGIN:DAYLIGHT
TZOFFSETFROM:-0600
TZOFFSETTO:-0500
TZNAME:CDT
DTSTART:20270314T080000
END:DAYLIGHT
BEGIN:STANDARD
TZOFFSETFROM:-0500
TZOFFSETTO:-0600
TZNAME:CST
DTSTART:20271107T070000
END:STANDARD
END:VTIMEZONE
BEGIN:VEVENT
DTSTART;TZID=America/Chicago:20250924T100000
DTEND;TZID=America/Chicago:20250924T110000
DTSTAMP:20260421T092901
CREATED:20250811T191354Z
LAST-MODIFIED:20251003T202644Z
UID:10003954-1758708000-1758711600@www.pdhp.org
SUMMARY:Stories in the Sand
DESCRIPTION:
URL:https://www.pdhp.org/event/stories-in-the-sand-16/2025-09-24/
LOCATION:Rosewood Beach\, 883 Sheridan Road\, Highland Park\, IL\, 60035\, United States
CATEGORIES:Fall,Summer
END:VEVENT
BEGIN:VEVENT
DTSTART;TZID=America/Chicago:20251008T100000
DTEND;TZID=America/Chicago:20251008T110000
DTSTAMP:20260421T092901
CREATED:20250811T191354Z
LAST-MODIFIED:20251003T202644Z
UID:10003955-1759917600-1759921200@www.pdhp.org
SUMMARY:Stories in the Sand
DESCRIPTION:
URL:https://www.pdhp.org/event/stories-in-the-sand-16/2025-10-08/
LOCATION:Rosewood Beach\, 883 Sheridan Road\, Highland Park\, IL\, 60035\, United States
CATEGORIES:Fall,Summer
END:VEVENT
BEGIN:VEVENT
DTSTART;TZID=America/Chicago:20251022T100000
DTEND;TZID=America/Chicago:20251022T110000
DTSTAMP:20260421T092901
CREATED:20250811T191354Z
LAST-MODIFIED:20251003T202644Z
UID:10003956-1761127200-1761130800@www.pdhp.org
SUMMARY:Stories in the Sand
DESCRIPTION:
URL:https://www.pdhp.org/event/stories-in-the-sand-16/2025-10-22/
LOCATION:Rosewood Beach\, 883 Sheridan Road\, Highland Park\, IL\, 60035\, United States
CATEGORIES:Fall,Summer
END:VEVENT
BEGIN:VEVENT
DTSTART;TZID=America/Chicago:20260508T153000
DTEND;TZID=America/Chicago:20260508T170000
DTSTAMP:20260421T092901
CREATED:20260414T212457Z
LAST-MODIFIED:20260414T212459Z
UID:10006436-1778254200-1778259600@www.pdhp.org
SUMMARY:Screen Free Week: Compost Pop-Up
DESCRIPTION:
URL:https://www.pdhp.org/event/screen-free-week-compost-pop-up/
LOCATION:The Preserve of Highland Park\, 1207 Park Ave West\, Highland Park\, IL\, 60035\, United States
CATEGORIES:Free,Summer
END:VEVENT
BEGIN:VEVENT
DTSTART;TZID=America/Chicago:20260601T170000
DTEND;TZID=America/Chicago:20260604T193000
DTSTAMP:20260421T092901
CREATED:20260306T155448Z
LAST-MODIFIED:20260317T154031Z
UID:10006356-1780333200-1780601400@www.pdhp.org
SUMMARY:HPHS Giants Girls Gymnastics Clinic
DESCRIPTION:
URL:https://www.pdhp.org/event/hphs-giants-girls-gymnastics-clinic/
LOCATION:West Ridge Center\, 636 Ridge Road\, Highland Park\, IL\, 60035\, United States
CATEGORIES:Summer
END:VEVENT
BEGIN:VEVENT
DTSTART;TZID=America/Chicago:20260606T090000
DTEND;TZID=America/Chicago:20260606T110000
DTSTAMP:20260421T092901
CREATED:20250416T181708Z
LAST-MODIFIED:20260415T194357Z
UID:10003752-1780736400-1780743600@www.pdhp.org
SUMMARY:Cops and Bobbers Fishing Derby
DESCRIPTION:
URL:https://www.pdhp.org/event/cops-and-bobbers-fishing-derby/
LOCATION:The Preserve of Highland Park\, 1207 Park Ave West\, Highland Park\, IL\, 60035\, United States
CATEGORIES:Summer
END:VEVENT
BEGIN:VEVENT
DTSTART;TZID=America/Chicago:20260608T170000
DTEND;TZID=America/Chicago:20260611T193000
DTSTAMP:20260421T092901
CREATED:20260317T153825Z
LAST-MODIFIED:20260317T153827Z
UID:10006357-1780938000-1781206200@www.pdhp.org
SUMMARY:HPHS Giants Girls Gymnastics Clinic
DESCRIPTION:
URL:https://www.pdhp.org/event/hphs-giants-girls-gymnastics-clinic-2/
LOCATION:West Ridge Center\, 636 Ridge Road\, Highland Park\, IL\, 60035\, United States
CATEGORIES:Summer
END:VEVENT
BEGIN:VEVENT
DTSTART;TZID=America/Chicago:20260610T100000
DTEND;TZID=America/Chicago:20260610T110000
DTSTAMP:20260421T092901
CREATED:20260415T173806Z
LAST-MODIFIED:20260415T173808Z
UID:10006437-1781085600-1781089200@www.pdhp.org
SUMMARY:Stories in the Woods
DESCRIPTION:
URL:https://www.pdhp.org/event/stories-in-the-woods-7/2026-06-10/
LOCATION:Heller Nature Center\, 2821 Ridge Road\, Highland Park\, IL\, 60035\, United States
CATEGORIES:Summer
END:VEVENT
BEGIN:VEVENT
DTSTART;TZID=America/Chicago:20260610T113000
DTEND;TZID=America/Chicago:20260610T123000
DTSTAMP:20260421T092901
CREATED:20260414T142426Z
LAST-MODIFIED:20260414T142457Z
UID:10006430-1781091000-1781094600@www.pdhp.org
SUMMARY:Heller Discovery Hour
DESCRIPTION:
URL:https://www.pdhp.org/event/heller-discovery-hour/2026-06-10/
LOCATION:Heller Nature Center\, 2821 Ridge Road\, Highland Park\, IL\, 60035\, United States
CATEGORIES:Free,Summer
END:VEVENT
BEGIN:VEVENT
DTSTART;TZID=America/Chicago:20260610T183000
DTEND;TZID=America/Chicago:20260610T193000
DTSTAMP:20260421T092901
CREATED:20260416T182648Z
LAST-MODIFIED:20260416T184645Z
UID:10006476-1781116200-1781119800@www.pdhp.org
SUMMARY:Family Lego Night
DESCRIPTION:
URL:https://www.pdhp.org/event/family-lego-night/2026-06-10/
LOCATION:West Ridge Center\, 636 Ridge Road\, Highland Park\, IL\, 60035\, United States
CATEGORIES:Summer
END:VEVENT
BEGIN:VEVENT
DTSTART;TZID=America/Chicago:20260613T203000
DTEND;TZID=America/Chicago:20260613T214500
DTSTAMP:20260421T092901
CREATED:20260416T153813Z
LAST-MODIFIED:20260416T153814Z
UID:10006462-1781382600-1781387100@www.pdhp.org
SUMMARY:Bat Trackers Campfire
DESCRIPTION:
URL:https://www.pdhp.org/event/bat-trackers-campfire/2026-06-13/
LOCATION:Rosewood Beach\, 883 Sheridan Road\, Highland Park\, IL\, 60035\, United States
CATEGORIES:Summer
END:VEVENT
BEGIN:VEVENT
DTSTART;TZID=America/Chicago:20260614T093000
DTEND;TZID=America/Chicago:20260614T110000
DTSTAMP:20260421T092901
CREATED:20260416T154359Z
LAST-MODIFIED:20260416T154400Z
UID:10006464-1781429400-1781434800@www.pdhp.org
SUMMARY:Off Trail Ravine Hike
DESCRIPTION:
URL:https://www.pdhp.org/event/off-trail-ravine-hike/
LOCATION:Rosewood Beach\, 883 Sheridan Road\, Highland Park\, IL\, 60035\, United States
CATEGORIES:Summer
END:VEVENT
BEGIN:VEVENT
DTSTART;TZID=America/Chicago:20260614T093000
DTEND;TZID=America/Chicago:20260614T153000
DTSTAMP:20260421T092901
CREATED:20260416T182035Z
LAST-MODIFIED:20260416T185210Z
UID:10006478-1781429400-1781451000@www.pdhp.org
SUMMARY:Play In A Day
DESCRIPTION:
URL:https://www.pdhp.org/event/play-in-a-day-4/2026-06-14/
LOCATION:West Ridge Center\, 636 Ridge Road\, Highland Park\, IL\, 60035\, United States
CATEGORIES:Summer
END:VEVENT
BEGIN:VEVENT
DTSTART;TZID=America/Chicago:20260615T163000
DTEND;TZID=America/Chicago:20260615T173000
DTSTAMP:20260421T092901
CREATED:20260420T184054Z
LAST-MODIFIED:20260420T184058Z
UID:10006487-1781541000-1781544600@www.pdhp.org
SUMMARY:Pop Up in the Park: The Power of Nature
DESCRIPTION:
URL:https://www.pdhp.org/event/pop-up-in-the-park-the-power-of-nature/
LOCATION:Heller Nature Center\, 2821 Ridge Road\, Highland Park\, IL\, 60035\, United States
CATEGORIES:Free,Summer
END:VEVENT
BEGIN:VEVENT
DTSTART;TZID=America/Chicago:20260617T100000
DTEND;TZID=America/Chicago:20260617T103000
DTSTAMP:20260421T092901
CREATED:20260416T171617Z
LAST-MODIFIED:20260416T202011Z
UID:10006480-1781690400-1781692200@www.pdhp.org
SUMMARY:Preview: PlayFit on the Lawn
DESCRIPTION:
URL:https://www.pdhp.org/event/preview-playfit-on-the-lawn/2026-06-17/
LOCATION:West Ridge Center\, 636 Ridge Road\, Highland Park\, IL\, 60035\, United States
CATEGORIES:Free,Summer
END:VEVENT
BEGIN:VEVENT
DTSTART;TZID=America/Chicago:20260617T100000
DTEND;TZID=America/Chicago:20260617T110000
DTSTAMP:20260421T092901
CREATED:20260415T204622Z
LAST-MODIFIED:20260415T204625Z
UID:10006445-1781690400-1781694000@www.pdhp.org
SUMMARY:Tiny Creatures: All About Insects
DESCRIPTION:
URL:https://www.pdhp.org/event/tiny-creatures-all-about-insects/
LOCATION:Heller Nature Center\, 2821 Ridge Road\, Highland Park\, IL\, 60035\, United States
CATEGORIES:Free,Summer
END:VEVENT
BEGIN:VEVENT
DTSTART;TZID=America/Chicago:20260618T180000
DTEND;TZID=America/Chicago:20260618T193000
DTSTAMP:20260421T092901
CREATED:20260415T205308Z
LAST-MODIFIED:20260415T205310Z
UID:10006446-1781805600-1781811000@www.pdhp.org
SUMMARY:Family Archery Games
DESCRIPTION:
URL:https://www.pdhp.org/event/family-archery-games/2026-06-18/
LOCATION:Heller Nature Center\, 2821 Ridge Road\, Highland Park\, IL\, 60035\, United States
CATEGORIES:Summer
END:VEVENT
BEGIN:VEVENT
DTSTART;TZID=America/Chicago:20260621T090000
DTEND;TZID=America/Chicago:20260621T100000
DTSTAMP:20260421T092901
CREATED:20250417T155951Z
LAST-MODIFIED:20260414T213303Z
UID:10003769-1782032400-1782036000@www.pdhp.org
SUMMARY:International Day of Yoga
DESCRIPTION:
URL:https://www.pdhp.org/event/international-day-of-yoga/
LOCATION:The Preserve of Highland Park\, 1207 Park Ave West\, Highland Park\, IL\, 60035\, United States
CATEGORIES:Summer
END:VEVENT
BEGIN:VEVENT
DTSTART;TZID=America/Chicago:20260621T093000
DTEND;TZID=America/Chicago:20260621T113000
DTSTAMP:20260421T092901
CREATED:20260415T205730Z
LAST-MODIFIED:20260415T205733Z
UID:10006448-1782034200-1782041400@www.pdhp.org
SUMMARY:Father's Day Coffee and Canoes
DESCRIPTION:
URL:https://www.pdhp.org/event/fathers-day-coffee-and-canoes/
LOCATION:Heller Nature Center\, 2821 Ridge Road\, Highland Park\, IL\, 60035\, United States
CATEGORIES:Summer
END:VEVENT
BEGIN:VEVENT
DTSTART;TZID=America/Chicago:20260624T100000
DTEND;TZID=America/Chicago:20260624T110000
DTSTAMP:20260421T092901
CREATED:20260415T173806Z
LAST-MODIFIED:20260415T173808Z
UID:10006438-1782295200-1782298800@www.pdhp.org
SUMMARY:Stories in the Woods
DESCRIPTION:
URL:https://www.pdhp.org/event/stories-in-the-woods-7/2026-06-24/
LOCATION:Heller Nature Center\, 2821 Ridge Road\, Highland Park\, IL\, 60035\, United States
CATEGORIES:Summer
END:VEVENT
BEGIN:VEVENT
DTSTART;TZID=America/Chicago:20260624T113000
DTEND;TZID=America/Chicago:20260624T123000
DTSTAMP:20260421T092901
CREATED:20260414T142426Z
LAST-MODIFIED:20260414T142457Z
UID:10006431-1782300600-1782304200@www.pdhp.org
SUMMARY:Heller Discovery Hour
DESCRIPTION:
URL:https://www.pdhp.org/event/heller-discovery-hour/2026-06-24/
LOCATION:Heller Nature Center\, 2821 Ridge Road\, Highland Park\, IL\, 60035\, United States
CATEGORIES:Free,Summer
END:VEVENT
BEGIN:VEVENT
DTSTART;TZID=America/Chicago:20260624T183000
DTEND;TZID=America/Chicago:20260624T193000
DTSTAMP:20260421T092901
CREATED:20260416T184048Z
LAST-MODIFIED:20260416T184317Z
UID:10006475-1782325800-1782329400@www.pdhp.org
SUMMARY:Family Art Night
DESCRIPTION:
URL:https://www.pdhp.org/event/family-art-night-5/2026-06-24/
LOCATION:West Ridge Center\, 636 Ridge Road\, Highland Park\, IL\, 60035\, United States
CATEGORIES:Summer
END:VEVENT
BEGIN:VEVENT
DTSTART;TZID=America/Chicago:20260625T180000
DTEND;TZID=America/Chicago:20260625T190000
DTSTAMP:20260421T092901
CREATED:20260417T191308Z
LAST-MODIFIED:20260417T191311Z
UID:10006482-1782410400-1782414000@www.pdhp.org
SUMMARY:Shipwrecks and Stories
DESCRIPTION:
URL:https://www.pdhp.org/event/shipwrecks-and-stories/
LOCATION:Rosewood Beach\, 883 Sheridan Road\, Highland Park\, IL\, 60035\, United States
CATEGORIES:Summer
END:VEVENT
BEGIN:VEVENT
DTSTART;TZID=America/Chicago:20260627T090000
DTEND;TZID=America/Chicago:20260627T100000
DTSTAMP:20260421T092901
CREATED:20260420T175838Z
LAST-MODIFIED:20260420T175841Z
UID:10006483-1782550800-1782554400@www.pdhp.org
SUMMARY:Pop Up in the Park: The Power of Imagination
DESCRIPTION:
URL:https://www.pdhp.org/event/pop-up-in-the-park-the-power-of-imagination/
LOCATION:West Ridge Center\, 636 Ridge Road\, Highland Park\, IL\, 60035\, United States
CATEGORIES:Free,Summer
END:VEVENT
BEGIN:VEVENT
DTSTART;TZID=America/Chicago:20260627T100000
DTEND;TZID=America/Chicago:20260627T120000
DTSTAMP:20260421T092901
CREATED:20260415T195157Z
LAST-MODIFIED:20260415T195200Z
UID:10006443-1782554400-1782561600@www.pdhp.org
SUMMARY:Nature Playdates
DESCRIPTION:
URL:https://www.pdhp.org/event/nature-playdates-3/2026-06-27/
LOCATION:Heller Nature Center\, 2821 Ridge Road\, Highland Park\, IL\, 60035\, United States
CATEGORIES:Free,Summer
END:VEVENT
BEGIN:VEVENT
DTSTART;TZID=America/Chicago:20260628T130000
DTEND;TZID=America/Chicago:20260628T143000
DTSTAMP:20260421T092901
CREATED:20260415T214300Z
LAST-MODIFIED:20260415T214302Z
UID:10006449-1782651600-1782657000@www.pdhp.org
SUMMARY:Birds and Butterflies
DESCRIPTION:
URL:https://www.pdhp.org/event/birds-and-butterflies/
LOCATION:Heller Nature Center\, 2821 Ridge Road\, Highland Park\, IL\, 60035\, United States
CATEGORIES:Summer
END:VEVENT
BEGIN:VEVENT
DTSTART;TZID=America/Chicago:20260703T070000
DTEND;TZID=America/Chicago:20260705T200000
DTSTAMP:20260421T092901
CREATED:20260416T161429Z
LAST-MODIFIED:20260416T161430Z
UID:10006466-1783062000-1783281600@www.pdhp.org
SUMMARY:Agents of Discovery: Stars and Stripes Trail Walk
DESCRIPTION:
URL:https://www.pdhp.org/event/agents-of-discovery-stars-and-stripes-trail-walk/
LOCATION:Heller Nature Center\, 2821 Ridge Road\, Highland Park\, IL\, 60035\, United States
CATEGORIES:Summer
END:VEVENT
BEGIN:VEVENT
DTSTART;TZID=America/Chicago:20260703T173000
DTEND;TZID=America/Chicago:20260703T213000
DTSTAMP:20260421T092901
CREATED:20260407T143153Z
LAST-MODIFIED:20260420T164204Z
UID:10003804-1783099800-1783114200@www.pdhp.org
SUMMARY:Independence Fest
DESCRIPTION:Music\n	\n\n\n\nHello Weekend\n\n\n\nChicago’s own non-stop party cover band with a wide-ranging set from Gaga to Guns N’ Roses\, Bruno Mars to The Beach Boys! \n\n\n\n\n\n\n\n\n\n\n\n\n\n\n\n	\n			Food Vendors\n	\n\n\n\n \n\n\n\n\nJudy’s Pizza\n\n\n\nMichael’s Catering\n\n\n\nSoul and Smoke\n\n\n\nC&W Ice Cream\n\n\n\nDepidy Dawg\n\n\n\nCasa de Isaac\n\n\n\nHello Boba\n\n\n\n\n\n\n\n\n\n\n\n\n\n\n	\n			Attractions & Games*\n	\n\n\n\n\n11 attractions including two trackless trains\, and more!\n\n\n\n16 carnival games including Human Sphere\, Euro Bungee Trampoline\, Xtreme Fun Run\, and more!\n\n\n\nFace painting\n\n\n\n\n*Wristbands are required for games & attractions. Avoid the lines and pre-purchase your wristbands for $10 from Monday\, June 16-Thursday\, July 3 at 3pm at these locations: \n\n\n\n\nWest Ridge Center • 636 Ridge Road\n\n\n\nRecreation Center of Highland Park • 1207 Park Ave. W.\n\n\n\nHighland Park Bank & Trust • 1949 St. Johns Ave.\n\n\n\n\nWristbands are available on site at The Preserve for $15. \n\n\n\n\n\n\n\n\n\n\n\n\n\n\n\nProudly Presented by:
URL:https://www.pdhp.org/event/independence-fest/
LOCATION:The Preserve of Highland Park\, 1207 Park Ave West\, Highland Park\, IL\, 60035\, United States
CATEGORIES:Summer
END:VEVENT
BEGIN:VEVENT
DTSTART;TZID=America/Chicago:20260704T080000
DTEND;TZID=America/Chicago:20260704T090000
DTSTAMP:20260421T092901
CREATED:20250630T165119Z
LAST-MODIFIED:20260414T213433Z
UID:10003888-1783152000-1783155600@www.pdhp.org
SUMMARY:Independence Day Community Yoga
DESCRIPTION:
URL:https://www.pdhp.org/event/independence-day-community-yoga/
LOCATION:Rosewood Beach\, 883 Sheridan Road\, Highland Park\, IL\, 60035\, United States
CATEGORIES:Summer
END:VEVENT
BEGIN:VEVENT
DTSTART;TZID=America/Chicago:20260704T103000
DTEND;TZID=America/Chicago:20260704T110000
DTSTAMP:20260421T092901
CREATED:20260409T183136Z
LAST-MODIFIED:20260409T183220Z
UID:10006429-1783161000-1783162800@www.pdhp.org
SUMMARY:Independence Day Parade
DESCRIPTION:
URL:https://www.pdhp.org/event/independence-day-parade/
LOCATION:Downtown Highland Park\, Highland Park\, Illinois
CATEGORIES:Summer
END:VEVENT
END:VCALENDAR