BEGIN:VCALENDAR
VERSION:2.0
PRODID:-//Park District of Highland Park - ECPv6.15.17.1//NONSGML v1.0//EN
CALSCALE:GREGORIAN
METHOD:PUBLISH
X-WR-CALNAME:Park District of Highland Park
X-ORIGINAL-URL:https://www.pdhp.org
X-WR-CALDESC:Events for Park District of Highland Park
REFRESH-INTERVAL;VALUE=DURATION:PT1H
X-Robots-Tag:noindex
X-PUBLISHED-TTL:PT1H
BEGIN:VTIMEZONE
TZID:America/Chicago
BEGIN:DAYLIGHT
TZOFFSETFROM:-0600
TZOFFSETTO:-0500
TZNAME:CDT
DTSTART:20250309T080000
END:DAYLIGHT
BEGIN:STANDARD
TZOFFSETFROM:-0500
TZOFFSETTO:-0600
TZNAME:CST
DTSTART:20251102T070000
END:STANDARD
BEGIN:DAYLIGHT
TZOFFSETFROM:-0600
TZOFFSETTO:-0500
TZNAME:CDT
DTSTART:20260308T080000
END:DAYLIGHT
BEGIN:STANDARD
TZOFFSETFROM:-0500
TZOFFSETTO:-0600
TZNAME:CST
DTSTART:20261101T070000
END:STANDARD
BEGIN:DAYLIGHT
TZOFFSETFROM:-0600
TZOFFSETTO:-0500
TZNAME:CDT
DTSTART:20270314T080000
END:DAYLIGHT
BEGIN:STANDARD
TZOFFSETFROM:-0500
TZOFFSETTO:-0600
TZNAME:CST
DTSTART:20271107T070000
END:STANDARD
END:VTIMEZONE
BEGIN:VEVENT
DTSTART;TZID=America/Chicago:20260714T100000
DTEND;TZID=America/Chicago:20260714T110000
DTSTAMP:20260421T010221
CREATED:20260415T214720Z
LAST-MODIFIED:20260415T214722Z
UID:10006450-1784023200-1784026800@www.pdhp.org
SUMMARY:Alphabet Hike
DESCRIPTION:
URL:https://www.pdhp.org/event/alphabet-hike/
LOCATION:Heller Nature Center\, 2821 Ridge Road\, Highland Park\, IL\, 60035\, United States
CATEGORIES:Free,Summer
END:VEVENT
BEGIN:VEVENT
DTSTART;TZID=America/Chicago:20260715T183000
DTEND;TZID=America/Chicago:20260715T193000
DTSTAMP:20260421T010221
CREATED:20260416T182648Z
LAST-MODIFIED:20260416T184645Z
UID:10006469-1784140200-1784143800@www.pdhp.org
SUMMARY:Family Lego Night
DESCRIPTION:
URL:https://www.pdhp.org/event/family-lego-night/2026-07-15/
LOCATION:West Ridge Center\, 636 Ridge Road\, Highland Park\, IL\, 60035\, United States
CATEGORIES:Summer
END:VEVENT
BEGIN:VEVENT
DTSTART;TZID=America/Chicago:20260716T180000
DTEND;TZID=America/Chicago:20260716T193000
DTSTAMP:20260421T010221
CREATED:20260415T205308Z
LAST-MODIFIED:20260415T205310Z
UID:10006447-1784224800-1784230200@www.pdhp.org
SUMMARY:Family Archery Games
DESCRIPTION:
URL:https://www.pdhp.org/event/family-archery-games/2026-07-16/
LOCATION:Heller Nature Center\, 2821 Ridge Road\, Highland Park\, IL\, 60035\, United States
CATEGORIES:Summer
END:VEVENT
BEGIN:VEVENT
DTSTART;TZID=America/Chicago:20260718T100000
DTEND;TZID=America/Chicago:20260718T110000
DTSTAMP:20260421T010221
CREATED:20260416T183317Z
LAST-MODIFIED:20260416T183437Z
UID:10006470-1784368800-1784372400@www.pdhp.org
SUMMARY:Financial Literacy
DESCRIPTION:
URL:https://www.pdhp.org/event/financial-literacy/2026-07-18/1/
LOCATION:West Ridge Center\, 636 Ridge Road\, Highland Park\, IL\, 60035\, United States
CATEGORIES:Free,Summer
END:VEVENT
BEGIN:VEVENT
DTSTART;TZID=America/Chicago:20260718T110000
DTEND;TZID=America/Chicago:20260718T120000
DTSTAMP:20260421T010221
CREATED:20260416T183317Z
LAST-MODIFIED:20260416T183437Z
UID:10006471-1784372400-1784376000@www.pdhp.org
SUMMARY:Financial Literacy
DESCRIPTION:
URL:https://www.pdhp.org/event/financial-literacy/2026-07-18/2/
LOCATION:West Ridge Center\, 636 Ridge Road\, Highland Park\, IL\, 60035\, United States
CATEGORIES:Free,Summer
END:VEVENT
BEGIN:VEVENT
DTSTART;TZID=America/Chicago:20260718T180000
DTEND;TZID=America/Chicago:20260718T193000
DTSTAMP:20260421T010221
CREATED:20260416T153550Z
LAST-MODIFIED:20260416T153551Z
UID:10006461-1784397600-1784403000@www.pdhp.org
SUMMARY:Goodnight Construction Site
DESCRIPTION:
URL:https://www.pdhp.org/event/goodnight-construction-site/
LOCATION:Rosewood Beach\, 883 Sheridan Road\, Highland Park\, IL\, 60035\, United States
CATEGORIES:Summer
END:VEVENT
BEGIN:VEVENT
DTSTART;TZID=America/Chicago:20260720T163000
DTEND;TZID=America/Chicago:20260720T173000
DTSTAMP:20260421T010221
CREATED:20260420T181928Z
LAST-MODIFIED:20260420T182701Z
UID:10006485-1784565000-1784568600@www.pdhp.org
SUMMARY:Pop Up in the Park: The Power of Reusing
DESCRIPTION:
URL:https://www.pdhp.org/event/pop-up-in-the-park-the-power-of-reusing/
LOCATION:Brown Park\, 563 Washington Place\, Highland Park\, Illinois\, 60035\, United States
CATEGORIES:Free,Summer
END:VEVENT
BEGIN:VEVENT
DTSTART;TZID=America/Chicago:20260722T100000
DTEND;TZID=America/Chicago:20260722T110000
DTSTAMP:20260421T010221
CREATED:20260415T173806Z
LAST-MODIFIED:20260415T173808Z
UID:10006440-1784714400-1784718000@www.pdhp.org
SUMMARY:Stories in the Woods
DESCRIPTION:
URL:https://www.pdhp.org/event/stories-in-the-woods-7/2026-07-22/
LOCATION:Heller Nature Center\, 2821 Ridge Road\, Highland Park\, IL\, 60035\, United States
CATEGORIES:Summer
END:VEVENT
BEGIN:VEVENT
DTSTART;TZID=America/Chicago:20260722T113000
DTEND;TZID=America/Chicago:20260722T123000
DTSTAMP:20260421T010221
CREATED:20260414T142426Z
LAST-MODIFIED:20260414T142457Z
UID:10006433-1784719800-1784723400@www.pdhp.org
SUMMARY:Heller Discovery Hour
DESCRIPTION:
URL:https://www.pdhp.org/event/heller-discovery-hour/2026-07-22/
LOCATION:Heller Nature Center\, 2821 Ridge Road\, Highland Park\, IL\, 60035\, United States
CATEGORIES:Free,Summer
END:VEVENT
BEGIN:VEVENT
DTSTART;TZID=America/Chicago:20260724T200000
DTEND;TZID=America/Chicago:20260724T211500
DTSTAMP:20260421T010221
CREATED:20260415T215316Z
LAST-MODIFIED:20260415T215319Z
UID:10006451-1784923200-1784927700@www.pdhp.org
SUMMARY:Moonlight Moth Hike
DESCRIPTION:
URL:https://www.pdhp.org/event/moonlight-moth-hike/
LOCATION:Heller Nature Center\, 2821 Ridge Road\, Highland Park\, IL\, 60035\, United States
CATEGORIES:Summer
END:VEVENT
BEGIN:VEVENT
DTSTART;TZID=America/Chicago:20260725T100000
DTEND;TZID=America/Chicago:20260725T120000
DTSTAMP:20260421T010221
CREATED:20260415T195157Z
LAST-MODIFIED:20260415T195200Z
UID:10006444-1784973600-1784980800@www.pdhp.org
SUMMARY:Nature Playdates
DESCRIPTION:
URL:https://www.pdhp.org/event/nature-playdates-3/2026-07-25/
LOCATION:Heller Nature Center\, 2821 Ridge Road\, Highland Park\, IL\, 60035\, United States
CATEGORIES:Free,Summer
END:VEVENT
BEGIN:VEVENT
DTSTART;TZID=America/Chicago:20260729T183000
DTEND;TZID=America/Chicago:20260729T193000
DTSTAMP:20260421T010221
CREATED:20260416T184048Z
LAST-MODIFIED:20260416T184317Z
UID:10006473-1785349800-1785353400@www.pdhp.org
SUMMARY:Family Art Night
DESCRIPTION:
URL:https://www.pdhp.org/event/family-art-night-5/2026-07-29/
LOCATION:West Ridge Center\, 636 Ridge Road\, Highland Park\, IL\, 60035\, United States
CATEGORIES:Summer
END:VEVENT
BEGIN:VEVENT
DTSTART;TZID=America/Chicago:20260731T200000
DTEND;TZID=America/Chicago:20260731T210000
DTSTAMP:20260421T010221
CREATED:20260415T215716Z
LAST-MODIFIED:20260415T215718Z
UID:10006456-1785528000-1785531600@www.pdhp.org
SUMMARY:Sound Walk
DESCRIPTION:
URL:https://www.pdhp.org/event/sound-walk/
LOCATION:The Preserve of Highland Park\, 1207 Park Ave West\, Highland Park\, IL\, 60035\, United States
CATEGORIES:Summer
END:VEVENT
BEGIN:VEVENT
DTSTART;TZID=America/Chicago:20260801T193000
DTEND;TZID=America/Chicago:20260801T213000
DTSTAMP:20260421T010221
CREATED:20260415T220140Z
LAST-MODIFIED:20260420T164958Z
UID:10006458-1785612600-1785619800@www.pdhp.org
SUMMARY:Kids Night at the Nature Center: After Hours Exploring
DESCRIPTION:
URL:https://www.pdhp.org/event/night-at-the-nature-center-after-hours-exploring/
LOCATION:Heller Nature Center\, 2821 Ridge Road\, Highland Park\, IL\, 60035\, United States
CATEGORIES:Free,Summer
END:VEVENT
BEGIN:VEVENT
DTSTART;TZID=America/Chicago:20260802T093000
DTEND;TZID=America/Chicago:20260802T153000
DTSTAMP:20260421T010221
CREATED:20260416T182035Z
LAST-MODIFIED:20260416T185210Z
UID:10006479-1785663000-1785684600@www.pdhp.org
SUMMARY:Play In A Day
DESCRIPTION:
URL:https://www.pdhp.org/event/play-in-a-day-4/2026-08-02/
LOCATION:West Ridge Center\, 636 Ridge Road\, Highland Park\, IL\, 60035\, United States
CATEGORIES:Summer
END:VEVENT
BEGIN:VEVENT
DTSTART;TZID=America/Chicago:20260805T100000
DTEND;TZID=America/Chicago:20260805T110000
DTSTAMP:20260421T010221
CREATED:20260415T173806Z
LAST-MODIFIED:20260415T173808Z
UID:10006441-1785924000-1785927600@www.pdhp.org
SUMMARY:Stories in the Woods
DESCRIPTION:
URL:https://www.pdhp.org/event/stories-in-the-woods-7/2026-08-05/
LOCATION:Heller Nature Center\, 2821 Ridge Road\, Highland Park\, IL\, 60035\, United States
CATEGORIES:Summer
END:VEVENT
BEGIN:VEVENT
DTSTART;TZID=America/Chicago:20260805T113000
DTEND;TZID=America/Chicago:20260805T123000
DTSTAMP:20260421T010221
CREATED:20260414T142426Z
LAST-MODIFIED:20260414T142457Z
UID:10006434-1785929400-1785933000@www.pdhp.org
SUMMARY:Heller Discovery Hour
DESCRIPTION:
URL:https://www.pdhp.org/event/heller-discovery-hour/2026-08-05/
LOCATION:Heller Nature Center\, 2821 Ridge Road\, Highland Park\, IL\, 60035\, United States
CATEGORIES:Free,Summer
END:VEVENT
BEGIN:VEVENT
DTSTART;TZID=America/Chicago:20260806T160000
DTEND;TZID=America/Chicago:20260806T170000
DTSTAMP:20260421T010221
CREATED:20260416T202938Z
LAST-MODIFIED:20260416T202940Z
UID:10006481-1786032000-1786035600@www.pdhp.org
SUMMARY:Preview: Chess Club
DESCRIPTION:
URL:https://www.pdhp.org/event/preview-chess-club/
LOCATION:West Ridge Center\, 636 Ridge Road\, Highland Park\, IL\, 60035\, United States
CATEGORIES:Summer
END:VEVENT
BEGIN:VEVENT
DTSTART;TZID=America/Chicago:20260807T200000
DTEND;TZID=America/Chicago:20260807T211500
DTSTAMP:20260421T010221
CREATED:20260416T153813Z
LAST-MODIFIED:20260416T153814Z
UID:10006463-1786132800-1786137300@www.pdhp.org
SUMMARY:Bat Trackers Campfire
DESCRIPTION:
URL:https://www.pdhp.org/event/bat-trackers-campfire/2026-08-07/
LOCATION:Rosewood Beach\, 883 Sheridan Road\, Highland Park\, IL\, 60035\, United States
CATEGORIES:Summer
END:VEVENT
BEGIN:VEVENT
DTSTART;TZID=America/Chicago:20260810T163000
DTEND;TZID=America/Chicago:20260810T173000
DTSTAMP:20260421T010221
CREATED:20260420T182825Z
LAST-MODIFIED:20260420T182828Z
UID:10006486-1786379400-1786383000@www.pdhp.org
SUMMARY:Pop Up in the Park: The Power of Play
DESCRIPTION:
URL:https://www.pdhp.org/event/pop-up-in-the-park-the-power-of-play/
LOCATION:Lincoln Park\, 1280 Green Bay Road\, Highland Park\, Illinois\, 60035\, United States
CATEGORIES:Free,Summer
END:VEVENT
BEGIN:VEVENT
DTSTART;TZID=America/Chicago:20260812T183000
DTEND;TZID=America/Chicago:20260812T193000
DTSTAMP:20260421T010221
CREATED:20260416T182648Z
LAST-MODIFIED:20260416T184645Z
UID:10006477-1786559400-1786563000@www.pdhp.org
SUMMARY:Family Lego Night
DESCRIPTION:
URL:https://www.pdhp.org/event/family-lego-night/2026-08-12/
LOCATION:West Ridge Center\, 636 Ridge Road\, Highland Park\, IL\, 60035\, United States
CATEGORIES:Summer
END:VEVENT
BEGIN:VEVENT
DTSTART;TZID=America/Chicago:20260815T110000
DTEND;TZID=America/Chicago:20260815T123000
DTSTAMP:20260421T010221
CREATED:20260416T144548Z
LAST-MODIFIED:20260416T144550Z
UID:10006459-1786791600-1786797000@www.pdhp.org
SUMMARY:Sip\, Stroll\, and Spill the Tea
DESCRIPTION:
URL:https://www.pdhp.org/event/sip-stroll-and-spill-the-tea/
LOCATION:Heller Nature Center\, 2821 Ridge Road\, Highland Park\, IL\, 60035\, United States
CATEGORIES:Summer
END:VEVENT
BEGIN:VEVENT
DTSTART;TZID=America/Chicago:20260818T203000
DTEND;TZID=America/Chicago:20260818T223000
DTSTAMP:20260421T010221
CREATED:20250417T203237Z
LAST-MODIFIED:20260417T191619Z
UID:10003780-1787085000-1787092200@www.pdhp.org
SUMMARY:Sand & Shooting Stars
DESCRIPTION:
URL:https://www.pdhp.org/event/sand-shooting-stars/
LOCATION:Rosewood Beach\, 883 Sheridan Road\, Highland Park\, IL\, 60035\, United States
CATEGORIES:Summer
END:VEVENT
BEGIN:VEVENT
DTSTART;TZID=America/Chicago:20260819T100000
DTEND;TZID=America/Chicago:20260819T110000
DTSTAMP:20260421T010221
CREATED:20260415T173806Z
LAST-MODIFIED:20260415T173808Z
UID:10006442-1787133600-1787137200@www.pdhp.org
SUMMARY:Stories in the Woods
DESCRIPTION:
URL:https://www.pdhp.org/event/stories-in-the-woods-7/2026-08-19/
LOCATION:Heller Nature Center\, 2821 Ridge Road\, Highland Park\, IL\, 60035\, United States
CATEGORIES:Summer
END:VEVENT
BEGIN:VEVENT
DTSTART;TZID=America/Chicago:20260819T113000
DTEND;TZID=America/Chicago:20260819T123000
DTSTAMP:20260421T010221
CREATED:20260414T142426Z
LAST-MODIFIED:20260414T142457Z
UID:10006435-1787139000-1787142600@www.pdhp.org
SUMMARY:Heller Discovery Hour
DESCRIPTION:
URL:https://www.pdhp.org/event/heller-discovery-hour/2026-08-19/
LOCATION:Heller Nature Center\, 2821 Ridge Road\, Highland Park\, IL\, 60035\, United States
CATEGORIES:Free,Summer
END:VEVENT
BEGIN:VEVENT
DTSTART;TZID=America/Chicago:20260819T183000
DTEND;TZID=America/Chicago:20260819T193000
DTSTAMP:20260421T010221
CREATED:20260416T184048Z
LAST-MODIFIED:20260416T184317Z
UID:10006474-1787164200-1787167800@www.pdhp.org
SUMMARY:Family Art Night
DESCRIPTION:
URL:https://www.pdhp.org/event/family-art-night-5/2026-08-19/
LOCATION:West Ridge Center\, 636 Ridge Road\, Highland Park\, IL\, 60035\, United States
CATEGORIES:Summer
END:VEVENT
BEGIN:VEVENT
DTSTART;TZID=America/Chicago:20260829T100000
DTEND;TZID=America/Chicago:20260829T120000
DTSTAMP:20260421T010221
CREATED:20260416T145557Z
LAST-MODIFIED:20260416T145558Z
UID:10006460-1787997600-1788004800@www.pdhp.org
SUMMARY:Honey Harvest Festival
DESCRIPTION:
URL:https://www.pdhp.org/event/honey-harvest-festival/
LOCATION:Heller Nature Center\, 2821 Ridge Road\, Highland Park\, IL\, 60035\, United States
CATEGORIES:Free,Summer
END:VEVENT
BEGIN:VEVENT
DTSTART;TZID=America/Chicago:20260904T170000
DTEND;TZID=America/Chicago:20260904T190000
DTSTAMP:20260421T010221
CREATED:20260420T184700Z
LAST-MODIFIED:20260420T184703Z
UID:10006488-1788541200-1788548400@www.pdhp.org
SUMMARY:Pop Up in the Park: The Power of Community
DESCRIPTION:
URL:https://www.pdhp.org/event/pop-up-in-the-park-the-power-of-community/
LOCATION:Sunset Woods Park\, 1801 Sunset Road\, Highland Park\, Illinois\, 60035\, United States
CATEGORIES:Free,Summer
END:VEVENT
END:VCALENDAR