BEGIN:VCALENDAR
VERSION:2.0
PRODID:-//Park District of Highland Park - ECPv6.15.17.1//NONSGML v1.0//EN
CALSCALE:GREGORIAN
METHOD:PUBLISH
X-WR-CALNAME:Park District of Highland Park
X-ORIGINAL-URL:https://www.pdhp.org
X-WR-CALDESC:Events for Park District of Highland Park
REFRESH-INTERVAL;VALUE=DURATION:PT1H
X-Robots-Tag:noindex
X-PUBLISHED-TTL:PT1H
BEGIN:VTIMEZONE
TZID:America/Chicago
BEGIN:DAYLIGHT
TZOFFSETFROM:-0600
TZOFFSETTO:-0500
TZNAME:CDT
DTSTART:20240310T080000
END:DAYLIGHT
BEGIN:STANDARD
TZOFFSETFROM:-0500
TZOFFSETTO:-0600
TZNAME:CST
DTSTART:20241103T070000
END:STANDARD
BEGIN:DAYLIGHT
TZOFFSETFROM:-0600
TZOFFSETTO:-0500
TZNAME:CDT
DTSTART:20250309T080000
END:DAYLIGHT
BEGIN:STANDARD
TZOFFSETFROM:-0500
TZOFFSETTO:-0600
TZNAME:CST
DTSTART:20251102T070000
END:STANDARD
BEGIN:DAYLIGHT
TZOFFSETFROM:-0600
TZOFFSETTO:-0500
TZNAME:CDT
DTSTART:20260308T080000
END:DAYLIGHT
BEGIN:STANDARD
TZOFFSETFROM:-0500
TZOFFSETTO:-0600
TZNAME:CST
DTSTART:20261101T070000
END:STANDARD
END:VTIMEZONE
BEGIN:VEVENT
DTSTART;TZID=America/Chicago:20250619T180000
DTEND;TZID=America/Chicago:20250619T190000
DTSTAMP:20260421T075114
CREATED:20250417T181717Z
LAST-MODIFIED:20250425T150740Z
UID:10003774-1750356000-1750359600@www.pdhp.org
SUMMARY:Nature Zines
DESCRIPTION:
URL:https://www.pdhp.org/event/nature-zines/
LOCATION:Rosewood Beach\, 883 Sheridan Road\, Highland Park\, IL\, 60035\, United States
CATEGORIES:Summer
END:VEVENT
BEGIN:VEVENT
DTSTART;TZID=America/Chicago:20250618T160000
DTEND;TZID=America/Chicago:20250618T173000
DTSTAMP:20260421T075114
CREATED:20250416T192231Z
LAST-MODIFIED:20250416T192643Z
UID:10003755-1750262400-1750267800@www.pdhp.org
SUMMARY:Mini Makers & Movers
DESCRIPTION:
URL:https://www.pdhp.org/event/mini-makers-movers/
LOCATION:Sunset Woods Park\, 1801 Sunset Road\, Highland Park\, Illinois\, 60035\, United States
CATEGORIES:Free,Summer
END:VEVENT
BEGIN:VEVENT
DTSTART;TZID=America/Chicago:20250617T100000
DTEND;TZID=America/Chicago:20250617T110000
DTSTAMP:20260421T075114
CREATED:20250416T203606Z
LAST-MODIFIED:20250418T022226Z
UID:10003759-1750154400-1750158000@www.pdhp.org
SUMMARY:Bubbles in the Wild
DESCRIPTION:
URL:https://www.pdhp.org/event/bubbles-in-the-wild/
LOCATION:Heller Nature Center\, 2821 Ridge Road\, Highland Park\, IL\, 60035\, United States
CATEGORIES:Summer
END:VEVENT
BEGIN:VEVENT
DTSTART;TZID=America/Chicago:20250612T180000
DTEND;TZID=America/Chicago:20250612T191500
DTSTAMP:20260421T075114
CREATED:20250416T202328Z
LAST-MODIFIED:20250430T162339Z
UID:10003756-1749751200-1749755700@www.pdhp.org
SUMMARY:Family Archery Nights
DESCRIPTION:
URL:https://www.pdhp.org/event/family-archery-nights-2/2025-06-12/
LOCATION:Heller Nature Center\, 2821 Ridge Road\, Highland Park\, IL\, 60035\, United States
CATEGORIES:Summer
END:VEVENT
BEGIN:VEVENT
DTSTART;TZID=America/Chicago:20250611T100000
DTEND;TZID=America/Chicago:20250611T110000
DTSTAMP:20260421T075114
CREATED:20250416T155928Z
LAST-MODIFIED:20250416T155931Z
UID:10003746-1749636000-1749639600@www.pdhp.org
SUMMARY:Stories in the Woods
DESCRIPTION:
URL:https://www.pdhp.org/event/stories-in-the-woods-43/2025-06-11/
LOCATION:Heller Nature Center\, 2821 Ridge Road\, Highland Park\, IL\, 60035\, United States
CATEGORIES:Summer
END:VEVENT
BEGIN:VEVENT
DTSTART;TZID=America/Chicago:20250610T160000
DTEND;TZID=America/Chicago:20250610T170000
DTSTAMP:20260421T075114
CREATED:20250415T154252Z
LAST-MODIFIED:20250519T190304Z
UID:10003739-1749571200-1749574800@www.pdhp.org
SUMMARY:Pop Up in the Park: Poland
DESCRIPTION:
URL:https://www.pdhp.org/event/pop-up-in-the-park-poland/
LOCATION:Lincoln Park\, 1280 Green Bay Road\, Highland Park\, Illinois\, 60035\, United States
CATEGORIES:Summer
END:VEVENT
BEGIN:VEVENT
DTSTART;TZID=America/Chicago:20250606T190000
DTEND;TZID=America/Chicago:20250606T210000
DTSTAMP:20260421T075114
CREATED:20250421T171359Z
LAST-MODIFIED:20250425T140853Z
UID:10003790-1749236400-1749243600@www.pdhp.org
SUMMARY:Mini Golf Theme Night
DESCRIPTION:
URL:https://www.pdhp.org/event/mini-golf-theme-night/2025-06-06/
LOCATION:River’s Edge Mini Golf\, 2203 Skokie Valley Road\, Highland Park\, IL\, 60035\, United States
CATEGORIES:Summer
END:VEVENT
BEGIN:VEVENT
DTSTART;TZID=America/Chicago:20250606T170000
DTEND;TZID=America/Chicago:20250606T200000
DTSTAMP:20260421T075114
CREATED:20250418T150105Z
LAST-MODIFIED:20250418T150109Z
UID:10003782-1749229200-1749240000@www.pdhp.org
SUMMARY:Live at Sunset
DESCRIPTION:
URL:https://www.pdhp.org/event/live-at-sunset-3/2025-06-06/
LOCATION:Sunset Valley Golf Club\, 1390 Sunset Road\, Highland Park\, IL\, 60035\, United States
CATEGORIES:Summer
END:VEVENT
BEGIN:VEVENT
DTSTART;TZID=America/Chicago:20250502T190000
DTEND;TZID=America/Chicago:20250502T210000
DTSTAMP:20260421T075114
CREATED:20250421T171359Z
LAST-MODIFIED:20250425T140853Z
UID:10003789-1746212400-1746219600@www.pdhp.org
SUMMARY:Mini Golf Theme Night
DESCRIPTION:
URL:https://www.pdhp.org/event/mini-golf-theme-night/2025-05-02/
LOCATION:River’s Edge Mini Golf\, 2203 Skokie Valley Road\, Highland Park\, IL\, 60035\, United States
CATEGORIES:Summer
END:VEVENT
END:VCALENDAR