BEGIN:VCALENDAR
VERSION:2.0
PRODID:-//Park District of Highland Park - ECPv6.15.17.1//NONSGML v1.0//EN
CALSCALE:GREGORIAN
METHOD:PUBLISH
X-ORIGINAL-URL:https://www.pdhp.org
X-WR-CALDESC:Events for Park District of Highland Park
REFRESH-INTERVAL;VALUE=DURATION:PT1H
X-Robots-Tag:noindex
X-PUBLISHED-TTL:PT1H
BEGIN:VTIMEZONE
TZID:America/Chicago
BEGIN:DAYLIGHT
TZOFFSETFROM:-0600
TZOFFSETTO:-0500
TZNAME:CDT
DTSTART:20240310T080000
END:DAYLIGHT
BEGIN:STANDARD
TZOFFSETFROM:-0500
TZOFFSETTO:-0600
TZNAME:CST
DTSTART:20241103T070000
END:STANDARD
BEGIN:DAYLIGHT
TZOFFSETFROM:-0600
TZOFFSETTO:-0500
TZNAME:CDT
DTSTART:20250309T080000
END:DAYLIGHT
BEGIN:STANDARD
TZOFFSETFROM:-0500
TZOFFSETTO:-0600
TZNAME:CST
DTSTART:20251102T070000
END:STANDARD
BEGIN:DAYLIGHT
TZOFFSETFROM:-0600
TZOFFSETTO:-0500
TZNAME:CDT
DTSTART:20260308T080000
END:DAYLIGHT
BEGIN:STANDARD
TZOFFSETFROM:-0500
TZOFFSETTO:-0600
TZNAME:CST
DTSTART:20261101T070000
END:STANDARD
BEGIN:DAYLIGHT
TZOFFSETFROM:-0600
TZOFFSETTO:-0500
TZNAME:CDT
DTSTART:20270314T080000
END:DAYLIGHT
BEGIN:STANDARD
TZOFFSETFROM:-0500
TZOFFSETTO:-0600
TZNAME:CST
DTSTART:20271107T070000
END:STANDARD
END:VTIMEZONE
BEGIN:VEVENT
DTSTART;TZID=America/Chicago:20260211T100000
DTEND;TZID=America/Chicago:20260211T110000
DTSTAMP:20260421T143909
CREATED:20251022T214132Z
LAST-MODIFIED:20260108T214523Z
UID:10005952-1770804000-1770807600@www.pdhp.org
SUMMARY:Sights and Sounds of Winter
DESCRIPTION:
URL:https://www.pdhp.org/event/sights-sounds-of-winter/
LOCATION:Heller Nature Center\, 2821 Ridge Road\, Highland Park\, IL\, 60035\, United States
CATEGORIES:Sustainable,Winter
END:VEVENT
BEGIN:VEVENT
DTSTART;TZID=America/Chicago:20260206T173000
DTEND;TZID=America/Chicago:20260206T193000
DTSTAMP:20260421T143909
CREATED:20251021T182745Z
LAST-MODIFIED:20251219T163652Z
UID:10005936-1770399000-1770406200@www.pdhp.org
SUMMARY:Yule Ball Family Dance
DESCRIPTION:
URL:https://www.pdhp.org/event/yule-ball-family-dance/
LOCATION:Park Fitness\, 1207 Park Avenue West\, Highland Park\, IL\, 60035\, United States
CATEGORIES:Winter
END:VEVENT
BEGIN:VEVENT
DTSTART;TZID=America/Chicago:20260204T100000
DTEND;TZID=America/Chicago:20260204T110000
DTSTAMP:20260421T143909
CREATED:20251021T210523Z
LAST-MODIFIED:20260305T161529Z
UID:10005940-1770199200-1770202800@www.pdhp.org
SUMMARY:Stories in the Woods
DESCRIPTION:
URL:https://www.pdhp.org/event/stories-in-the-woods-5/2026-02-04/
LOCATION:Heller Nature Center\, 2821 Ridge Road\, Highland Park\, IL\, 60035\, United States
CATEGORIES:Winter
END:VEVENT
BEGIN:VEVENT
DTSTART;TZID=America/Chicago:20260125T150000
DTEND;TZID=America/Chicago:20260125T180000
DTSTAMP:20260421T143909
CREATED:20251229T194703Z
LAST-MODIFIED:20251229T194707Z
UID:10006096-1769353200-1769364000@www.pdhp.org
SUMMARY:Open Volleyball
DESCRIPTION:
URL:https://www.pdhp.org/event/open-volleyball-17/
LOCATION:Park Fitness\, 1207 Park Avenue West\, Highland Park\, IL\, 60035\, United States
CATEGORIES:Winter
END:VEVENT
BEGIN:VEVENT
DTSTART;TZID=America/Chicago:20260124T140000
DTEND;TZID=America/Chicago:20260124T180000
DTSTAMP:20260421T143909
CREATED:20250930T145940Z
LAST-MODIFIED:20250930T145943Z
UID:10005761-1769263200-1769277600@www.pdhp.org
SUMMARY:MLP Format Pickleball Tournament
DESCRIPTION:
URL:https://www.pdhp.org/event/mlp-format-pickleball-tournament/
LOCATION:Club Pickle & Padel\, 2205 Skokie Valley Rd\, Highland Park\, IL\, 60035\, United States
CATEGORIES:Winter
END:VEVENT
BEGIN:VEVENT
DTSTART;TZID=America/Chicago:20260124T070000
DTEND;TZID=America/Chicago:20260124T180000
DTSTAMP:20260421T143909
CREATED:20251022T213544Z
LAST-MODIFIED:20251022T213547Z
UID:10005951-1769238000-1769277600@www.pdhp.org
SUMMARY:Eagle Watch Winter Trip
DESCRIPTION:
URL:https://www.pdhp.org/event/eagle-watch-winter-trip-2/
LOCATION:Heller Nature Center\, 2821 Ridge Road\, Highland Park\, IL\, 60035\, United States
CATEGORIES:Winter
END:VEVENT
BEGIN:VEVENT
DTSTART;TZID=America/Chicago:20260121T100000
DTEND;TZID=America/Chicago:20260121T110000
DTSTAMP:20260421T143909
CREATED:20251021T210523Z
LAST-MODIFIED:20260305T161529Z
UID:10005939-1768989600-1768993200@www.pdhp.org
SUMMARY:Stories in the Woods
DESCRIPTION:
URL:https://www.pdhp.org/event/stories-in-the-woods-5/2026-01-21/
LOCATION:Heller Nature Center\, 2821 Ridge Road\, Highland Park\, IL\, 60035\, United States
CATEGORIES:Winter
END:VEVENT
BEGIN:VEVENT
DTSTART;TZID=America/Chicago:20260116T183000
DTEND;TZID=America/Chicago:20260116T193000
DTSTAMP:20260421T143909
CREATED:20251021T142649Z
LAST-MODIFIED:20251021T171902Z
UID:10005930-1768588200-1768591800@www.pdhp.org
SUMMARY:Family Art Night
DESCRIPTION:
URL:https://www.pdhp.org/event/family-art-night/
LOCATION:West Ridge Community Center\, 636 Ridge Road\, Highland Park\, IL\, 60035\, United States
CATEGORIES:Winter
END:VEVENT
BEGIN:VEVENT
DTSTART;TZID=America/Chicago:20260114T100000
DTEND;TZID=America/Chicago:20260114T110000
DTSTAMP:20260421T143909
CREATED:20251022T212807Z
LAST-MODIFIED:20251029T162940Z
UID:10005949-1768384800-1768388400@www.pdhp.org
SUMMARY:Spectacular Snowflakes
DESCRIPTION:
URL:https://www.pdhp.org/event/spectacular-snowflakes/
LOCATION:Heller Nature Center\, 2821 Ridge Road\, Highland Park\, IL\, 60035\, United States
CATEGORIES:Sustainable,Winter
END:VEVENT
BEGIN:VEVENT
DTSTART;TZID=America/Chicago:20260111T150000
DTEND;TZID=America/Chicago:20260111T180000
DTSTAMP:20260421T143909
CREATED:20251229T194111Z
LAST-MODIFIED:20251229T194115Z
UID:10006093-1768143600-1768154400@www.pdhp.org
SUMMARY:Open Volleyball
DESCRIPTION:
URL:https://www.pdhp.org/event/open-volleyball-14/
LOCATION:Park Fitness\, 1207 Park Avenue West\, Highland Park\, IL\, 60035\, United States
CATEGORIES:Winter
END:VEVENT
BEGIN:VEVENT
DTSTART;TZID=America/Chicago:20260111T110000
DTEND;TZID=America/Chicago:20260111T130000
DTSTAMP:20260421T143909
CREATED:20251022T162338Z
LAST-MODIFIED:20251022T162539Z
UID:10005948-1768129200-1768136400@www.pdhp.org
SUMMARY:Heller Hygge Winter PlayDate
DESCRIPTION:
URL:https://www.pdhp.org/event/heller-hygge-winter-playdate/
LOCATION:Heller Nature Center\, 2821 Ridge Road\, Highland Park\, IL\, 60035\, United States
CATEGORIES:Free,Winter
END:VEVENT
BEGIN:VEVENT
DTSTART;TZID=America/Chicago:20260111T093000
DTEND;TZID=America/Chicago:20260111T153000
DTSTAMP:20260421T143909
CREATED:20251105T190413Z
LAST-MODIFIED:20251106T165816Z
UID:10006052-1768123800-1768145400@www.pdhp.org
SUMMARY:Play in a Day!
DESCRIPTION:
URL:https://www.pdhp.org/event/play-in-a-day/
LOCATION:West Ridge Community Center\, 636 Ridge Road\, Highland Park\, IL\, 60035\, United States
CATEGORIES:Winter
END:VEVENT
BEGIN:VEVENT
DTSTART;TZID=America/Chicago:20260109T180000
DTEND;TZID=America/Chicago:20260109T190000
DTSTAMP:20260421T143909
CREATED:20251023T145221Z
LAST-MODIFIED:20251029T162956Z
UID:10005954-1767981600-1767985200@www.pdhp.org
SUMMARY:Stargazing and S'mores
DESCRIPTION:
URL:https://www.pdhp.org/event/stargazing-and-smores/
LOCATION:Rosewood Beach\, 883 Sheridan Road\, Highland Park\, IL\, 60035\, United States
CATEGORIES:Sustainable,Winter
END:VEVENT
BEGIN:VEVENT
DTSTART;TZID=America/Chicago:20260107T100000
DTEND;TZID=America/Chicago:20260107T110000
DTSTAMP:20260421T143909
CREATED:20251021T210523Z
LAST-MODIFIED:20260305T161529Z
UID:10005938-1767780000-1767783600@www.pdhp.org
SUMMARY:Stories in the Woods
DESCRIPTION:
URL:https://www.pdhp.org/event/stories-in-the-woods-5/2026-01-07/
LOCATION:Heller Nature Center\, 2821 Ridge Road\, Highland Park\, IL\, 60035\, United States
CATEGORIES:Winter
END:VEVENT
BEGIN:VEVENT
DTSTART;TZID=America/Chicago:20260101T110000
DTEND;TZID=America/Chicago:20260101T120000
DTSTAMP:20260421T143909
CREATED:20251021T213849Z
LAST-MODIFIED:20251029T163009Z
UID:10005947-1767265200-1767268800@www.pdhp.org
SUMMARY:First Day Hike
DESCRIPTION:
URL:https://www.pdhp.org/event/first-day-hike/
LOCATION:The Preserve of Highland Park\, 1207 Park Ave West\, Highland Park\, IL\, 60035\, United States
CATEGORIES:Sustainable,Winter
END:VEVENT
BEGIN:VEVENT
DTSTART;TZID=America/Chicago:20251230T190000
DTEND;TZID=America/Chicago:20251230T210000
DTSTAMP:20260421T143909
CREATED:20251229T193716Z
LAST-MODIFIED:20251229T193720Z
UID:10006091-1767121200-1767128400@www.pdhp.org
SUMMARY:Open Volleyball
DESCRIPTION:
URL:https://www.pdhp.org/event/open-volleyball-12/
LOCATION:Park Fitness\, 1207 Park Avenue West\, Highland Park\, IL\, 60035\, United States
CATEGORIES:Winter
END:VEVENT
BEGIN:VEVENT
DTSTART;TZID=America/Chicago:20251230T103000
DTEND;TZID=America/Chicago:20251230T123000
DTSTAMP:20260421T143909
CREATED:20251202T153942Z
LAST-MODIFIED:20251211T161524Z
UID:10006081-1767090600-1767097800@www.pdhp.org
SUMMARY:Winter Break Gymnastics Pizza Party
DESCRIPTION:
URL:https://www.pdhp.org/event/winter-break-gymnastics-pizza-party/2025-12-30/
LOCATION:Centennial Ice Arena\, 3100 Trail Way\, Highland Park\, IL\, 60035\, United States
CATEGORIES:Winter
END:VEVENT
BEGIN:VEVENT
DTSTART;TZID=America/Chicago:20251230T090000
DTEND;TZID=America/Chicago:20251230T100000
DTSTAMP:20260421T143909
CREATED:20251202T162920Z
LAST-MODIFIED:20251202T163038Z
UID:10006086-1767085200-1767088800@www.pdhp.org
SUMMARY:Parent & Tot Open Gymnastics
DESCRIPTION:
URL:https://www.pdhp.org/event/parent-tot-open-gymnastics/2025-12-30/
LOCATION:Centennial Ice Arena\, 3100 Trail Way\, Highland Park\, IL\, 60035\, United States
CATEGORIES:Winter
END:VEVENT
BEGIN:VEVENT
DTSTART;TZID=America/Chicago:20251229T190000
DTEND;TZID=America/Chicago:20251229T210000
DTSTAMP:20260421T143909
CREATED:20251229T193445Z
LAST-MODIFIED:20251229T193449Z
UID:10006090-1767034800-1767042000@www.pdhp.org
SUMMARY:Open Volleyball
DESCRIPTION:
URL:https://www.pdhp.org/event/open-volleyball-11/
LOCATION:Park Fitness\, 1207 Park Avenue West\, Highland Park\, IL\, 60035\, United States
CATEGORIES:Winter
END:VEVENT
BEGIN:VEVENT
DTSTART;TZID=America/Chicago:20251229T103000
DTEND;TZID=America/Chicago:20251229T123000
DTSTAMP:20260421T143909
CREATED:20251202T153942Z
LAST-MODIFIED:20251211T161524Z
UID:10006080-1767004200-1767011400@www.pdhp.org
SUMMARY:Winter Break Gymnastics Pizza Party
DESCRIPTION:
URL:https://www.pdhp.org/event/winter-break-gymnastics-pizza-party/2025-12-29/
LOCATION:Centennial Ice Arena\, 3100 Trail Way\, Highland Park\, IL\, 60035\, United States
CATEGORIES:Winter
END:VEVENT
BEGIN:VEVENT
DTSTART;TZID=America/Chicago:20251229T090000
DTEND;TZID=America/Chicago:20260102T120000
DTSTAMP:20260421T143909
CREATED:20251021T173843Z
LAST-MODIFIED:20251024T195909Z
UID:10005934-1766998800-1767355200@www.pdhp.org
SUMMARY:Tennis Winter Break Camp
DESCRIPTION:
URL:https://www.pdhp.org/event/tennis-winter-break-camp-2/
LOCATION:Deer Creek Racquet Club\, 701 Deer Creek Parkway\, Highland Park\, IL\, 60035\, United States
CATEGORIES:Winter
END:VEVENT
BEGIN:VEVENT
DTSTART;TZID=America/Chicago:20251229T090000
DTEND;TZID=America/Chicago:20251229T100000
DTSTAMP:20260421T143909
CREATED:20251202T162920Z
LAST-MODIFIED:20251202T163038Z
UID:10006085-1766998800-1767002400@www.pdhp.org
SUMMARY:Parent & Tot Open Gymnastics
DESCRIPTION:
URL:https://www.pdhp.org/event/parent-tot-open-gymnastics/2025-12-29/
LOCATION:Centennial Ice Arena\, 3100 Trail Way\, Highland Park\, IL\, 60035\, United States
CATEGORIES:Winter
END:VEVENT
BEGIN:VEVENT
DTSTART;TZID=America/Chicago:20251223T103000
DTEND;TZID=America/Chicago:20251223T123000
DTSTAMP:20260421T143909
CREATED:20251202T153942Z
LAST-MODIFIED:20251211T161524Z
UID:10006079-1766485800-1766493000@www.pdhp.org
SUMMARY:Winter Break Gymnastics Pizza Party
DESCRIPTION:
URL:https://www.pdhp.org/event/winter-break-gymnastics-pizza-party/2025-12-23/
LOCATION:Centennial Ice Arena\, 3100 Trail Way\, Highland Park\, IL\, 60035\, United States
CATEGORIES:Winter
END:VEVENT
BEGIN:VEVENT
DTSTART;TZID=America/Chicago:20251223T090000
DTEND;TZID=America/Chicago:20251223T100000
DTSTAMP:20260421T143909
CREATED:20251202T162920Z
LAST-MODIFIED:20251202T163038Z
UID:10006084-1766480400-1766484000@www.pdhp.org
SUMMARY:Parent & Tot Open Gymnastics
DESCRIPTION:
URL:https://www.pdhp.org/event/parent-tot-open-gymnastics/2025-12-23/
LOCATION:Centennial Ice Arena\, 3100 Trail Way\, Highland Park\, IL\, 60035\, United States
CATEGORIES:Winter
END:VEVENT
BEGIN:VEVENT
DTSTART;TZID=America/Chicago:20251222T103000
DTEND;TZID=America/Chicago:20251222T123000
DTSTAMP:20260421T143909
CREATED:20251202T153942Z
LAST-MODIFIED:20251211T161524Z
UID:10006078-1766399400-1766406600@www.pdhp.org
SUMMARY:Winter Break Gymnastics Pizza Party
DESCRIPTION:
URL:https://www.pdhp.org/event/winter-break-gymnastics-pizza-party/2025-12-22/
LOCATION:Centennial Ice Arena\, 3100 Trail Way\, Highland Park\, IL\, 60035\, United States
CATEGORIES:Winter
END:VEVENT
BEGIN:VEVENT
DTSTART;TZID=America/Chicago:20251222T090000
DTEND;TZID=America/Chicago:20251226T120000
DTSTAMP:20260421T143909
CREATED:20251021T173546Z
LAST-MODIFIED:20251024T195759Z
UID:10005933-1766394000-1766750400@www.pdhp.org
SUMMARY:Tennis Winter Break Camp
DESCRIPTION:
URL:https://www.pdhp.org/event/tennis-winter-break-camp/
LOCATION:Deer Creek Racquet Club\, 701 Deer Creek Parkway\, Highland Park\, IL\, 60035\, United States
CATEGORIES:Winter
END:VEVENT
BEGIN:VEVENT
DTSTART;TZID=America/Chicago:20251222T090000
DTEND;TZID=America/Chicago:20251222T100000
DTSTAMP:20260421T143909
CREATED:20251202T162920Z
LAST-MODIFIED:20251202T163038Z
UID:10006083-1766394000-1766397600@www.pdhp.org
SUMMARY:Parent & Tot Open Gymnastics
DESCRIPTION:
URL:https://www.pdhp.org/event/parent-tot-open-gymnastics/2025-12-22/
LOCATION:Centennial Ice Arena\, 3100 Trail Way\, Highland Park\, IL\, 60035\, United States
CATEGORIES:Winter
END:VEVENT
BEGIN:VEVENT
DTSTART;TZID=America/Chicago:20251219T090000
DTEND;TZID=America/Chicago:20251219T100000
DTSTAMP:20260421T143909
CREATED:20251202T162920Z
LAST-MODIFIED:20251202T163038Z
UID:10006082-1766134800-1766138400@www.pdhp.org
SUMMARY:Parent & Tot Open Gymnastics
DESCRIPTION:
URL:https://www.pdhp.org/event/parent-tot-open-gymnastics/2025-12-19/
LOCATION:Centennial Ice Arena\, 3100 Trail Way\, Highland Park\, IL\, 60035\, United States
CATEGORIES:Winter
END:VEVENT
BEGIN:VEVENT
DTSTART;TZID=America/Chicago:20251213T180000
DTEND;TZID=America/Chicago:20251213T193000
DTSTAMP:20260421T143909
CREATED:20251021T212211Z
LAST-MODIFIED:20251029T163034Z
UID:10005945-1765648800-1765654200@www.pdhp.org
SUMMARY:Winter Solstice Lantern Walk
DESCRIPTION:
URL:https://www.pdhp.org/event/winter-solstice-lantern-walk-2/
LOCATION:Heller Nature Center\, 2821 Ridge Road\, Highland Park\, IL\, 60035\, United States
CATEGORIES:Sustainable,Winter
END:VEVENT
BEGIN:VEVENT
DTSTART;TZID=America/Chicago:20251210T100000
DTEND;TZID=America/Chicago:20251210T110000
DTSTAMP:20260421T143909
CREATED:20251021T210523Z
LAST-MODIFIED:20260305T161529Z
UID:10005937-1765360800-1765364400@www.pdhp.org
SUMMARY:Stories in the Woods
DESCRIPTION:
URL:https://www.pdhp.org/event/stories-in-the-woods-5/2025-12-10/
LOCATION:Heller Nature Center\, 2821 Ridge Road\, Highland Park\, IL\, 60035\, United States
CATEGORIES:Winter
END:VEVENT
END:VCALENDAR