BEGIN:VCALENDAR
VERSION:2.0
PRODID:-//Park District of Highland Park - ECPv6.15.17.1//NONSGML v1.0//EN
CALSCALE:GREGORIAN
METHOD:PUBLISH
X-WR-CALNAME:Park District of Highland Park
X-ORIGINAL-URL:https://www.pdhp.org
X-WR-CALDESC:Events for Park District of Highland Park
REFRESH-INTERVAL;VALUE=DURATION:PT1H
X-Robots-Tag:noindex
X-PUBLISHED-TTL:PT1H
BEGIN:VTIMEZONE
TZID:America/Chicago
BEGIN:DAYLIGHT
TZOFFSETFROM:-0600
TZOFFSETTO:-0500
TZNAME:CDT
DTSTART:20250309T080000
END:DAYLIGHT
BEGIN:STANDARD
TZOFFSETFROM:-0500
TZOFFSETTO:-0600
TZNAME:CST
DTSTART:20251102T070000
END:STANDARD
BEGIN:DAYLIGHT
TZOFFSETFROM:-0600
TZOFFSETTO:-0500
TZNAME:CDT
DTSTART:20260308T080000
END:DAYLIGHT
BEGIN:STANDARD
TZOFFSETFROM:-0500
TZOFFSETTO:-0600
TZNAME:CST
DTSTART:20261101T070000
END:STANDARD
BEGIN:DAYLIGHT
TZOFFSETFROM:-0600
TZOFFSETTO:-0500
TZNAME:CDT
DTSTART:20270314T080000
END:DAYLIGHT
BEGIN:STANDARD
TZOFFSETFROM:-0500
TZOFFSETTO:-0600
TZNAME:CST
DTSTART:20271107T070000
END:STANDARD
END:VTIMEZONE
BEGIN:VEVENT
DTSTART;TZID=America/Chicago:20260721T180000
DTEND;TZID=America/Chicago:20260721T190000
DTSTAMP:20260421T033443
CREATED:20260102T164916Z
LAST-MODIFIED:20260102T164920Z
UID:10006104-1784656800-1784660400@www.pdhp.org
SUMMARY:Workshop Meeting
DESCRIPTION:
URL:https://www.pdhp.org/event/workshop-meeting-3/2026-07-21/
LOCATION:West Ridge Center\, 636 Ridge Road\, Highland Park\, IL\, 60035\, United States
END:VEVENT
BEGIN:VEVENT
DTSTART;TZID=America/Chicago:20260812T180000
DTEND;TZID=America/Chicago:20260812T190000
DTSTAMP:20260421T033443
CREATED:20260102T164916Z
LAST-MODIFIED:20260102T164920Z
UID:10006105-1786557600-1786561200@www.pdhp.org
SUMMARY:Workshop Meeting
DESCRIPTION:
URL:https://www.pdhp.org/event/workshop-meeting-3/2026-08-12/
LOCATION:West Ridge Center\, 636 Ridge Road\, Highland Park\, IL\, 60035\, United States
END:VEVENT
BEGIN:VEVENT
DTSTART;TZID=America/Chicago:20260909T180000
DTEND;TZID=America/Chicago:20260909T190000
DTSTAMP:20260421T033443
CREATED:20260102T164916Z
LAST-MODIFIED:20260102T164920Z
UID:10006106-1788976800-1788980400@www.pdhp.org
SUMMARY:Workshop Meeting
DESCRIPTION:
URL:https://www.pdhp.org/event/workshop-meeting-3/2026-09-09/
LOCATION:West Ridge Center\, 636 Ridge Road\, Highland Park\, IL\, 60035\, United States
END:VEVENT
END:VCALENDAR