BEGIN:VCALENDAR
VERSION:2.0
PRODID:-//Park District of Highland Park - ECPv6.15.17.1//NONSGML v1.0//EN
CALSCALE:GREGORIAN
METHOD:PUBLISH
X-ORIGINAL-URL:https://www.pdhp.org
X-WR-CALDESC:Events for Park District of Highland Park
REFRESH-INTERVAL;VALUE=DURATION:PT1H
X-Robots-Tag:noindex
X-PUBLISHED-TTL:PT1H
BEGIN:VTIMEZONE
TZID:America/Chicago
BEGIN:DAYLIGHT
TZOFFSETFROM:-0600
TZOFFSETTO:-0500
TZNAME:CDT
DTSTART:20240310T080000
END:DAYLIGHT
BEGIN:STANDARD
TZOFFSETFROM:-0500
TZOFFSETTO:-0600
TZNAME:CST
DTSTART:20241103T070000
END:STANDARD
BEGIN:DAYLIGHT
TZOFFSETFROM:-0600
TZOFFSETTO:-0500
TZNAME:CDT
DTSTART:20250309T080000
END:DAYLIGHT
BEGIN:STANDARD
TZOFFSETFROM:-0500
TZOFFSETTO:-0600
TZNAME:CST
DTSTART:20251102T070000
END:STANDARD
BEGIN:DAYLIGHT
TZOFFSETFROM:-0600
TZOFFSETTO:-0500
TZNAME:CDT
DTSTART:20260308T080000
END:DAYLIGHT
BEGIN:STANDARD
TZOFFSETFROM:-0500
TZOFFSETTO:-0600
TZNAME:CST
DTSTART:20261101T070000
END:STANDARD
END:VTIMEZONE
BEGIN:VEVENT
DTSTART;TZID=America/Chicago:20250726T120000
DTEND;TZID=America/Chicago:20250726T150000
DTSTAMP:20260421T192733
CREATED:20250711T180753Z
LAST-MODIFIED:20250711T193114Z
UID:10003887-1753531200-1753542000@www.pdhp.org
SUMMARY:Go Green SportSwap: Gently Used Equipment Swap and Sale
DESCRIPTION:
URL:https://www.pdhp.org/event/go-green-sportswap-gently-used-equipment-swap-and-sale-2/
LOCATION:Danny Cunniff Park\, 2700 Trail Way\, Highland Park\, Illinois\, 60035\, United States
CATEGORIES:Summer,Sustainable
END:VEVENT
BEGIN:VEVENT
DTSTART;TZID=America/Chicago:20250721T093000
DTEND;TZID=America/Chicago:20250721T123000
DTSTAMP:20260421T192733
CREATED:20250620T181355Z
LAST-MODIFIED:20250624T212935Z
UID:10003885-1753090200-1753101000@www.pdhp.org
SUMMARY:World's Largest Pickleball Lesson
DESCRIPTION:
URL:https://www.pdhp.org/event/worlds-largest-pickleball-lesson/
LOCATION:Danny Cunniff Park\, 2700 Trail Way\, Highland Park\, Illinois\, 60035\, United States
CATEGORIES:Summer
END:VEVENT
BEGIN:VEVENT
DTSTART;TZID=America/Chicago:20250720T120000
DTEND;TZID=America/Chicago:20250726T150000
DTSTAMP:20260421T192733
CREATED:20250625T144715Z
LAST-MODIFIED:20250711T180615Z
UID:10003908-1753012800-1753542000@www.pdhp.org
SUMMARY:Go Green SportSwap: Gently Used Equipment Swap and Sale
DESCRIPTION:
URL:https://www.pdhp.org/event/go-green-sportswap-gently-used-equipment-swap-and-sale/
LOCATION:Danny Cunniff Park\, 2700 Trail Way\, Highland Park\, Illinois\, 60035\, United States
CATEGORIES:Summer
END:VEVENT
BEGIN:VEVENT
DTSTART;TZID=America/Chicago:20250621T100000
DTEND;TZID=America/Chicago:20250621T110000
DTSTAMP:20260421T192733
CREATED:20250416T204323Z
LAST-MODIFIED:20250423T193600Z
UID:10003760-1750500000-1750503600@www.pdhp.org
SUMMARY:Get Started Fly Fishing
DESCRIPTION:
URL:https://www.pdhp.org/event/get-started-fly-fishing/
LOCATION:Danny Cunniff Park\, 2700 Trail Way\, Highland Park\, Illinois\, 60035\, United States
CATEGORIES:Summer
END:VEVENT
BEGIN:VEVENT
DTSTART;TZID=America/Chicago:20250607T080000
DTEND;TZID=America/Chicago:20250607T140000
DTSTAMP:20260421T192733
CREATED:20250402T200250Z
LAST-MODIFIED:20250603T160857Z
UID:10003734-1749283200-1749304800@www.pdhp.org
SUMMARY:“Smash for Charity” Pickleball Tournament
DESCRIPTION:Sponsor a Tournament Court!\n\n\n\nSponsorships start as low as $650. Contact Liz Gogola for more information at lgogola@pdhp.org or 847.579.3136. \n\n\n\n\nPresenting Sponsor (Limit 5) – $1\,000: Most prominent clickable logo on event page and logo on all marketing materials\, onsite recognition\, onsite presence (10×10 area\, logo on one court net and caps.\n\n\n\nCourt Sponsor (Unlimited) – $650: Second prominent clickable link on event page\, logo on all event marketing\, onsite recognition\, logo on one court net and caps.\n\n\n\n\nThank You to Our Presenting Sponsor:
URL:https://www.pdhp.org/event/smash-for-charity-pickleball-tournament/
LOCATION:Danny Cunniff Park\, 2700 Trail Way\, Highland Park\, Illinois\, 60035\, United States
END:VEVENT
BEGIN:VEVENT
DTSTART;TZID=America/Chicago:20250531T110000
DTEND;TZID=America/Chicago:20250531T130000
DTSTAMP:20260421T192733
CREATED:20250523T153109Z
LAST-MODIFIED:20250527T213025Z
UID:10003860-1748689200-1748696400@www.pdhp.org
SUMMARY:GreenPrint Master Planning Community Input Opportunity
DESCRIPTION:
URL:https://www.pdhp.org/event/greenprint-community-workshop-great-plans-start-with-great-ideas/
LOCATION:Danny Cunniff Park\, 2700 Trail Way\, Highland Park\, Illinois\, 60035\, United States
END:VEVENT
END:VCALENDAR