BEGIN:VCALENDAR
VERSION:2.0
PRODID:-//Park District of Highland Park - ECPv6.15.20//NONSGML v1.0//EN
CALSCALE:GREGORIAN
METHOD:PUBLISH
X-WR-CALNAME:Park District of Highland Park
X-ORIGINAL-URL:https://www.pdhp.org
X-WR-CALDESC:Events for Park District of Highland Park
REFRESH-INTERVAL;VALUE=DURATION:PT1H
X-Robots-Tag:noindex
X-PUBLISHED-TTL:PT1H
BEGIN:VTIMEZONE
TZID:America/Chicago
BEGIN:DAYLIGHT
TZOFFSETFROM:-0600
TZOFFSETTO:-0500
TZNAME:CDT
DTSTART:20250309T080000
END:DAYLIGHT
BEGIN:STANDARD
TZOFFSETFROM:-0500
TZOFFSETTO:-0600
TZNAME:CST
DTSTART:20251102T070000
END:STANDARD
BEGIN:DAYLIGHT
TZOFFSETFROM:-0600
TZOFFSETTO:-0500
TZNAME:CDT
DTSTART:20260308T080000
END:DAYLIGHT
BEGIN:STANDARD
TZOFFSETFROM:-0500
TZOFFSETTO:-0600
TZNAME:CST
DTSTART:20261101T070000
END:STANDARD
BEGIN:DAYLIGHT
TZOFFSETFROM:-0600
TZOFFSETTO:-0500
TZNAME:CDT
DTSTART:20270314T080000
END:DAYLIGHT
BEGIN:STANDARD
TZOFFSETFROM:-0500
TZOFFSETTO:-0600
TZNAME:CST
DTSTART:20271107T070000
END:STANDARD
END:VTIMEZONE
BEGIN:VEVENT
DTSTART;TZID=America/Chicago:20260509T090000
DTEND;TZID=America/Chicago:20260509T130000
DTSTAMP:20260422T070256
CREATED:20260320T170428Z
LAST-MODIFIED:20260320T170615Z
UID:10006373-1778317200-1778331600@www.pdhp.org
SUMMARY:Compost Give Back
DESCRIPTION:
URL:https://www.pdhp.org/event/compost-give-back/
LOCATION:Hidden Creek AquaPark\, 1220 Fredrickson Place\, Highland Park\, IL\, 60035\, United States
CATEGORIES:Sustainable
END:VEVENT
BEGIN:VEVENT
DTSTART;TZID=America/Chicago:20260620T150000
DTEND;TZID=America/Chicago:20260620T150000
DTSTAMP:20260422T070256
CREATED:20250423T155025Z
LAST-MODIFIED:20260421T143635Z
UID:10003799-1781967600-1781967600@www.pdhp.org
SUMMARY:Duck Derby
DESCRIPTION:
URL:https://www.pdhp.org/event/duck-derby-4/
LOCATION:Hidden Creek AquaPark\, 1220 Fredrickson Place\, Highland Park\, IL\, 60035\, United States
CATEGORIES:Summer
END:VEVENT
BEGIN:VEVENT
DTSTART;TZID=America/Chicago:20260625T180000
DTEND;TZID=America/Chicago:20260625T200000
DTSTAMP:20260422T070256
CREATED:20250421T173837Z
LAST-MODIFIED:20260421T143049Z
UID:10003793-1782410400-1782417600@www.pdhp.org
SUMMARY:World's Largest Swim Lesson
DESCRIPTION:
URL:https://www.pdhp.org/event/worlds-largest-swim-lesson-2/
LOCATION:Hidden Creek AquaPark\, 1220 Fredrickson Place\, Highland Park\, IL\, 60035\, United States
CATEGORIES:Summer
END:VEVENT
BEGIN:VEVENT
DTSTART;TZID=America/Chicago:20260704T110000
DTEND;TZID=America/Chicago:20260704T160000
DTSTAMP:20260422T070256
CREATED:20260409T182810Z
LAST-MODIFIED:20260409T182813Z
UID:10006428-1783162800-1783180800@www.pdhp.org
SUMMARY:Star-Spangled Pool Party
DESCRIPTION:
URL:https://www.pdhp.org/event/star-spangled-pool-party/
LOCATION:Hidden Creek AquaPark\, 1220 Fredrickson Place\, Highland Park\, IL\, 60035\, United States
CATEGORIES:Summer
END:VEVENT
BEGIN:VEVENT
DTSTART;TZID=America/Chicago:20260717T190000
DTEND;TZID=America/Chicago:20260717T210000
DTSTAMP:20260422T070256
CREATED:20260421T141948Z
LAST-MODIFIED:20260421T141950Z
UID:10006489-1784314800-1784322000@www.pdhp.org
SUMMARY:K-Pop Demon Hunters Family Pool Party
DESCRIPTION:
URL:https://www.pdhp.org/event/k-pop-demon-hunters-family-pool-party/
LOCATION:Hidden Creek AquaPark\, 1220 Fredrickson Place\, Highland Park\, IL\, 60035\, United States
END:VEVENT
BEGIN:VEVENT
DTSTART;TZID=America/Chicago:20260804T180000
DTEND;TZID=America/Chicago:20260804T203000
DTSTAMP:20260422T070256
CREATED:20250425T154650Z
LAST-MODIFIED:20260421T145057Z
UID:10003803-1785866400-1785875400@www.pdhp.org
SUMMARY:National Night Out
DESCRIPTION:
URL:https://www.pdhp.org/event/national-night-out-2/
LOCATION:Hidden Creek AquaPark\, 1220 Fredrickson Place\, Highland Park\, IL\, 60035\, United States
CATEGORIES:Summer
END:VEVENT
END:VCALENDAR