BEGIN:VCALENDAR
VERSION:2.0
PRODID:-//Park District of Highland Park - ECPv6.15.17.1//NONSGML v1.0//EN
CALSCALE:GREGORIAN
METHOD:PUBLISH
X-ORIGINAL-URL:https://www.pdhp.org
X-WR-CALDESC:Events for Park District of Highland Park
REFRESH-INTERVAL;VALUE=DURATION:PT1H
X-Robots-Tag:noindex
X-PUBLISHED-TTL:PT1H
BEGIN:VTIMEZONE
TZID:America/Chicago
BEGIN:DAYLIGHT
TZOFFSETFROM:-0600
TZOFFSETTO:-0500
TZNAME:CDT
DTSTART:20250309T080000
END:DAYLIGHT
BEGIN:STANDARD
TZOFFSETFROM:-0500
TZOFFSETTO:-0600
TZNAME:CST
DTSTART:20251102T070000
END:STANDARD
BEGIN:DAYLIGHT
TZOFFSETFROM:-0600
TZOFFSETTO:-0500
TZNAME:CDT
DTSTART:20260308T080000
END:DAYLIGHT
BEGIN:STANDARD
TZOFFSETFROM:-0500
TZOFFSETTO:-0600
TZNAME:CST
DTSTART:20261101T070000
END:STANDARD
BEGIN:DAYLIGHT
TZOFFSETFROM:-0600
TZOFFSETTO:-0500
TZNAME:CDT
DTSTART:20270314T080000
END:DAYLIGHT
BEGIN:STANDARD
TZOFFSETFROM:-0500
TZOFFSETTO:-0600
TZNAME:CST
DTSTART:20271107T070000
END:STANDARD
END:VTIMEZONE
BEGIN:VEVENT
DTSTART;TZID=America/Chicago:20260422T100000
DTEND;TZID=America/Chicago:20260422T110000
DTSTAMP:20260420T075825
CREATED:20260128T163051Z
LAST-MODIFIED:20260317T144154Z
UID:10006308-1776852000-1776855600@www.pdhp.org
SUMMARY:Stories in the Sand
DESCRIPTION:
URL:https://www.pdhp.org/event/stories-in-the-sand/2026-04-22/
LOCATION:Rosewood Beach\, 883 Sheridan Road\, Highland Park\, IL\, 60035\, United States
CATEGORIES:Nature,Spring
END:VEVENT
BEGIN:VEVENT
DTSTART;TZID=America/Chicago:20260501T194500
DTEND;TZID=America/Chicago:20260501T204500
DTSTAMP:20260420T075825
CREATED:20260128T174349Z
LAST-MODIFIED:20260417T182548Z
UID:10006319-1777664700-1777668300@www.pdhp.org
SUMMARY:Batty for Bats
DESCRIPTION:
URL:https://www.pdhp.org/event/batty-for-bats/
LOCATION:Rosewood Beach\, 883 Sheridan Road\, Highland Park\, IL\, 60035\, United States
CATEGORIES:Nature,Spring,Sustainable
END:VEVENT
BEGIN:VEVENT
DTSTART;TZID=America/Chicago:20260506T100000
DTEND;TZID=America/Chicago:20260506T110000
DTSTAMP:20260420T075825
CREATED:20260128T163051Z
LAST-MODIFIED:20260317T144154Z
UID:10006309-1778061600-1778065200@www.pdhp.org
SUMMARY:Stories in the Sand
DESCRIPTION:
URL:https://www.pdhp.org/event/stories-in-the-sand/2026-05-06/
LOCATION:Rosewood Beach\, 883 Sheridan Road\, Highland Park\, IL\, 60035\, United States
CATEGORIES:Nature,Spring
END:VEVENT
BEGIN:VEVENT
DTSTART;TZID=America/Chicago:20260510T100000
DTEND;TZID=America/Chicago:20260510T113000
DTSTAMP:20260420T075825
CREATED:20260120T193239Z
LAST-MODIFIED:20260317T152940Z
UID:10006245-1778407200-1778412600@www.pdhp.org
SUMMARY:Mother's Day Yoga & Mimosas
DESCRIPTION:
URL:https://www.pdhp.org/event/mothers-day-yoga-mimosas/
LOCATION:Rosewood Beach\, 883 Sheridan Road\, Highland Park\, IL\, 60035\, United States
CATEGORIES:Spring
END:VEVENT
BEGIN:VEVENT
DTSTART;TZID=America/Chicago:20260520T100000
DTEND;TZID=America/Chicago:20260520T110000
DTSTAMP:20260420T075825
CREATED:20260128T163051Z
LAST-MODIFIED:20260317T144154Z
UID:10006310-1779271200-1779274800@www.pdhp.org
SUMMARY:Stories in the Sand
DESCRIPTION:
URL:https://www.pdhp.org/event/stories-in-the-sand/2026-05-20/
LOCATION:Rosewood Beach\, 883 Sheridan Road\, Highland Park\, IL\, 60035\, United States
CATEGORIES:Nature,Spring
END:VEVENT
BEGIN:VEVENT
DTSTART;TZID=America/Chicago:20260613T203000
DTEND;TZID=America/Chicago:20260613T214500
DTSTAMP:20260420T075825
CREATED:20260416T153813Z
LAST-MODIFIED:20260416T153814Z
UID:10006462-1781382600-1781387100@www.pdhp.org
SUMMARY:Bat Trackers Campfire
DESCRIPTION:
URL:https://www.pdhp.org/event/bat-trackers-campfire/2026-06-13/
LOCATION:Rosewood Beach\, 883 Sheridan Road\, Highland Park\, IL\, 60035\, United States
CATEGORIES:Summer
END:VEVENT
BEGIN:VEVENT
DTSTART;TZID=America/Chicago:20260614T093000
DTEND;TZID=America/Chicago:20260614T110000
DTSTAMP:20260420T075825
CREATED:20260416T154359Z
LAST-MODIFIED:20260416T154400Z
UID:10006464-1781429400-1781434800@www.pdhp.org
SUMMARY:Off Trail Ravine Hike
DESCRIPTION:
URL:https://www.pdhp.org/event/off-trail-ravine-hike/
LOCATION:Rosewood Beach\, 883 Sheridan Road\, Highland Park\, IL\, 60035\, United States
CATEGORIES:Summer
END:VEVENT
BEGIN:VEVENT
DTSTART;TZID=America/Chicago:20260625T180000
DTEND;TZID=America/Chicago:20260625T190000
DTSTAMP:20260420T075825
CREATED:20260417T191308Z
LAST-MODIFIED:20260417T191311Z
UID:10006482-1782410400-1782414000@www.pdhp.org
SUMMARY:Shipwrecks and Stories
DESCRIPTION:
URL:https://www.pdhp.org/event/shipwrecks-and-stories/
LOCATION:Rosewood Beach\, 883 Sheridan Road\, Highland Park\, IL\, 60035\, United States
CATEGORIES:Summer
END:VEVENT
BEGIN:VEVENT
DTSTART;TZID=America/Chicago:20260704T080000
DTEND;TZID=America/Chicago:20260704T090000
DTSTAMP:20260420T075825
CREATED:20250630T165119Z
LAST-MODIFIED:20260414T213433Z
UID:10003888-1783152000-1783155600@www.pdhp.org
SUMMARY:Independence Day Community Yoga
DESCRIPTION:
URL:https://www.pdhp.org/event/independence-day-community-yoga/
LOCATION:Rosewood Beach\, 883 Sheridan Road\, Highland Park\, IL\, 60035\, United States
CATEGORIES:Summer
END:VEVENT
BEGIN:VEVENT
DTSTART;TZID=America/Chicago:20260712T093000
DTEND;TZID=America/Chicago:20260712T103000
DTSTAMP:20260420T075825
CREATED:20260416T154819Z
LAST-MODIFIED:20260416T154820Z
UID:10006465-1783848600-1783852200@www.pdhp.org
SUMMARY:Jurassic on the Beach
DESCRIPTION:
URL:https://www.pdhp.org/event/jurassic-on-the-beach/
LOCATION:Rosewood Beach\, 883 Sheridan Road\, Highland Park\, IL\, 60035\, United States
CATEGORIES:Summer
END:VEVENT
BEGIN:VEVENT
DTSTART;TZID=America/Chicago:20260718T180000
DTEND;TZID=America/Chicago:20260718T193000
DTSTAMP:20260420T075825
CREATED:20260416T153550Z
LAST-MODIFIED:20260416T153551Z
UID:10006461-1784397600-1784403000@www.pdhp.org
SUMMARY:Goodnight Construction Site
DESCRIPTION:
URL:https://www.pdhp.org/event/goodnight-construction-site/
LOCATION:Rosewood Beach\, 883 Sheridan Road\, Highland Park\, IL\, 60035\, United States
CATEGORIES:Summer
END:VEVENT
BEGIN:VEVENT
DTSTART;TZID=America/Chicago:20260807T200000
DTEND;TZID=America/Chicago:20260807T211500
DTSTAMP:20260420T075825
CREATED:20260416T153813Z
LAST-MODIFIED:20260416T153814Z
UID:10006463-1786132800-1786137300@www.pdhp.org
SUMMARY:Bat Trackers Campfire
DESCRIPTION:
URL:https://www.pdhp.org/event/bat-trackers-campfire/2026-08-07/
LOCATION:Rosewood Beach\, 883 Sheridan Road\, Highland Park\, IL\, 60035\, United States
CATEGORIES:Summer
END:VEVENT
BEGIN:VEVENT
DTSTART;TZID=America/Chicago:20260818T203000
DTEND;TZID=America/Chicago:20260818T223000
DTSTAMP:20260420T075825
CREATED:20250417T203237Z
LAST-MODIFIED:20260417T191619Z
UID:10003780-1787085000-1787092200@www.pdhp.org
SUMMARY:Sand & Shooting Stars
DESCRIPTION:
URL:https://www.pdhp.org/event/sand-shooting-stars/
LOCATION:Rosewood Beach\, 883 Sheridan Road\, Highland Park\, IL\, 60035\, United States
CATEGORIES:Summer
END:VEVENT
END:VCALENDAR